BEGIN:VCALENDAR
VERSION:2.0
PRODID:-//Cape and Islands Veterans Outreach Center - ECPv6.15.18//NONSGML v1.0//EN
CALSCALE:GREGORIAN
METHOD:PUBLISH
X-ORIGINAL-URL:https://capeveterans.com
X-WR-CALDESC:Events for Cape and Islands Veterans Outreach Center
REFRESH-INTERVAL;VALUE=DURATION:PT1H
X-Robots-Tag:noindex
X-PUBLISHED-TTL:PT1H
BEGIN:VTIMEZONE
TZID:America/New_York
BEGIN:DAYLIGHT
TZOFFSETFROM:-0500
TZOFFSETTO:-0400
TZNAME:EDT
DTSTART:20210314T070000
END:DAYLIGHT
BEGIN:STANDARD
TZOFFSETFROM:-0400
TZOFFSETTO:-0500
TZNAME:EST
DTSTART:20211107T060000
END:STANDARD
BEGIN:DAYLIGHT
TZOFFSETFROM:-0500
TZOFFSETTO:-0400
TZNAME:EDT
DTSTART:20220313T070000
END:DAYLIGHT
BEGIN:STANDARD
TZOFFSETFROM:-0400
TZOFFSETTO:-0500
TZNAME:EST
DTSTART:20221106T060000
END:STANDARD
BEGIN:DAYLIGHT
TZOFFSETFROM:-0500
TZOFFSETTO:-0400
TZNAME:EDT
DTSTART:20230312T070000
END:DAYLIGHT
BEGIN:STANDARD
TZOFFSETFROM:-0400
TZOFFSETTO:-0500
TZNAME:EST
DTSTART:20231105T060000
END:STANDARD
BEGIN:DAYLIGHT
TZOFFSETFROM:-0500
TZOFFSETTO:-0400
TZNAME:EDT
DTSTART:20240310T070000
END:DAYLIGHT
BEGIN:STANDARD
TZOFFSETFROM:-0400
TZOFFSETTO:-0500
TZNAME:EST
DTSTART:20241103T060000
END:STANDARD
BEGIN:DAYLIGHT
TZOFFSETFROM:-0500
TZOFFSETTO:-0400
TZNAME:EDT
DTSTART:20250309T070000
END:DAYLIGHT
BEGIN:STANDARD
TZOFFSETFROM:-0400
TZOFFSETTO:-0500
TZNAME:EST
DTSTART:20251102T060000
END:STANDARD
BEGIN:DAYLIGHT
TZOFFSETFROM:-0500
TZOFFSETTO:-0400
TZNAME:EDT
DTSTART:20260308T070000
END:DAYLIGHT
BEGIN:STANDARD
TZOFFSETFROM:-0400
TZOFFSETTO:-0500
TZNAME:EST
DTSTART:20261101T060000
END:STANDARD
END:VTIMEZONE
BEGIN:VEVENT
DTSTART;TZID=America/New_York:20250505T090000
DTEND;TZID=America/New_York:20250505T123000
DTSTAMP:20260419T093742
CREATED:20250401T195916Z
LAST-MODIFIED:20250401T195916Z
UID:10002334-1746435600-1746448200@capeveterans.com
SUMMARY:Hero's Golf Clininc
DESCRIPTION:Veterans Golf Instruction Clinic – Lunch included \nTo register:  All participants should contact Trevor England at tengland@sacconnessetgolf.com or call at 508.457.7200
URL:https://capeveterans.com/event/heros-golf-clininc/
LOCATION:Sacconnesset Golf Club\, 132 Falmouth Woods Rd\, Falmouth\, MA\, 02536
END:VEVENT
BEGIN:VEVENT
DTSTART;TZID=America/New_York:20250505T090000
DTEND;TZID=America/New_York:20250505T120000
DTSTAMP:20260419T093742
CREATED:20250407T162808Z
LAST-MODIFIED:20250407T182750Z
UID:10002335-1746435600-1746446400@capeveterans.com
SUMMARY:Golf Instruction Clinic at Sacconnesset Golf Club
DESCRIPTION:
URL:https://capeveterans.com/event/golf-instruction-clinic-at-sacconnesset-golf-club/
LOCATION:Sacconnesset Golf Club\, 132 Falmouth Woods Rd\, Falmouth\, MA\, 02536
CATEGORIES:Special Events
ATTACH;FMTTYPE=image/png:https://capeveterans.com/wp-content/uploads/2025/04/Golf-Clinic-Flyer-2025_20250406_191657_00002.png
END:VEVENT
BEGIN:VEVENT
DTSTART;TZID=America/New_York:20240506T090000
DTEND;TZID=America/New_York:20240506T120000
DTSTAMP:20260419T093742
CREATED:20240313T142111Z
LAST-MODIFIED:20240416T122503Z
UID:10001854-1714986000-1714996800@capeveterans.com
SUMMARY:Annual Veterans Golf Clinic @ Sacconnesset
DESCRIPTION:This event is for veterans-only. Learn from some of the best golf pros on the Cape.
URL:https://capeveterans.com/event/annual-veterans-golf-clinic-sacconnesset/
LOCATION:Sacconnesset Golf Club\, 132 Falmouth Woods Rd\, Falmouth\, MA\, 02536
ATTACH;FMTTYPE=image/jpeg:https://capeveterans.com/wp-content/uploads/2024/03/Golf-Tournament.jpg
END:VEVENT
BEGIN:VEVENT
DTSTART;TZID=America/New_York:20220515T090000
DTEND;TZID=America/New_York:20220515T090000
DTSTAMP:20260419T093742
CREATED:20220415T170614Z
LAST-MODIFIED:20220415T170626Z
UID:10001310-1652605200-1652605200@capeveterans.com
SUMMARY:Complimentary Veterans Golf Clinic and Lunch
DESCRIPTION:Reserve your spot today!\nTrevor England (508) 457-7200\ntengland@sacconnessetgolf.com
URL:https://capeveterans.com/event/complimentary-veterans-golf-clinic-and-lunch/
LOCATION:Sacconnesset Golf Club\, 132 Falmouth Woods Rd\, Falmouth\, MA\, 02536
ATTACH;FMTTYPE=image/jpeg:https://capeveterans.com/wp-content/uploads/2022/04/cIV8Tt8zrDNb13ZnRuxX20lKDV4Lh615WQ.jpeg
END:VEVENT
END:VCALENDAR