BEGIN:VCALENDAR
VERSION:2.0
PRODID:-//Cape and Islands Veterans Outreach Center - ECPv6.15.18//NONSGML v1.0//EN
CALSCALE:GREGORIAN
METHOD:PUBLISH
X-WR-CALNAME:Cape and Islands Veterans Outreach Center
X-ORIGINAL-URL:https://capeveterans.com
X-WR-CALDESC:Events for Cape and Islands Veterans Outreach Center
REFRESH-INTERVAL;VALUE=DURATION:PT1H
X-Robots-Tag:noindex
X-PUBLISHED-TTL:PT1H
BEGIN:VTIMEZONE
TZID:America/New_York
BEGIN:DAYLIGHT
TZOFFSETFROM:-0500
TZOFFSETTO:-0400
TZNAME:EDT
DTSTART:20230312T070000
END:DAYLIGHT
BEGIN:STANDARD
TZOFFSETFROM:-0400
TZOFFSETTO:-0500
TZNAME:EST
DTSTART:20231105T060000
END:STANDARD
BEGIN:DAYLIGHT
TZOFFSETFROM:-0500
TZOFFSETTO:-0400
TZNAME:EDT
DTSTART:20240310T070000
END:DAYLIGHT
BEGIN:STANDARD
TZOFFSETFROM:-0400
TZOFFSETTO:-0500
TZNAME:EST
DTSTART:20241103T060000
END:STANDARD
BEGIN:DAYLIGHT
TZOFFSETFROM:-0500
TZOFFSETTO:-0400
TZNAME:EDT
DTSTART:20250309T070000
END:DAYLIGHT
BEGIN:STANDARD
TZOFFSETFROM:-0400
TZOFFSETTO:-0500
TZNAME:EST
DTSTART:20251102T060000
END:STANDARD
END:VTIMEZONE
BEGIN:VEVENT
DTSTART;TZID=America/New_York:20240102T100000
DTEND;TZID=America/New_York:20240102T120000
DTSTAMP:20260421T165913
CREATED:20220413T134920Z
LAST-MODIFIED:20250603T125434Z
UID:10000989-1704189600-1704196800@capeveterans.com
SUMMARY:Falmouth Food Pantry
DESCRIPTION:1st and 3rd Tuesday of each month\, 10am – 12pm\nIn order to receive food\, former military personnel must bring proof of their veteran status\, such as a DD-214 (issued upon a service member’s retirement\, separation\, or discharge from active duty)\, and they must meet criteria for assistance as defined by The Emergency Food Assistance Program (TEFAP).
URL:https://capeveterans.com/event/falmouth-food-pantry/2024-01-02/
LOCATION:AmVets\, 366 Palmer Ave\, Falmouth\, MA\, 02540
ATTACH;FMTTYPE=image/jpeg:https://capeveterans.com/wp-content/uploads/2022/04/IMG_1748-scaled.jpeg
END:VEVENT
BEGIN:VEVENT
DTSTART;TZID=America/New_York:20240104T090000
DTEND;TZID=America/New_York:20240104T180000
DTSTAMP:20260421T165913
CREATED:20220413T133350Z
LAST-MODIFIED:20250602T161924Z
UID:10002729-1704358800-1704391200@capeveterans.com
SUMMARY:Hyannis: NEW Food Distribution Center\, 223 Stevens Street
DESCRIPTION:Every Thursday\, 9am – 6pm\nIn order to receive food\, former military personnel must bring proof of their veteran status\, such as a DD-214 (issued upon a service member’s retirement\, separation\, or discharge from active duty)\, and they must meet criteria for assistance as defined by The Emergency Food Assistance Program (TEFAP). \nA-I LAST NAMES 1ST & 3RD THURSDAY OF THE MONTH.\nJ-Z LAST NAMES 2ND & 4TH THURSDAY OF THE MONTH.
URL:https://capeveterans.com/event/hyannis-food-pantry/2024-01-04/
LOCATION:Hyannis: Food Distribution Center\, 223 Stevens St\, Hyannis\, MA\, 02601
ATTACH;FMTTYPE=image/jpeg:https://capeveterans.com/wp-content/uploads/2022/04/IMG_1748-scaled.jpeg
END:VEVENT
BEGIN:VEVENT
DTSTART;TZID=America/New_York:20240109T100000
DTEND;TZID=America/New_York:20240109T130000
DTSTAMP:20260421T165913
CREATED:20220413T135458Z
LAST-MODIFIED:20250602T150654Z
UID:10001126-1704794400-1704805200@capeveterans.com
SUMMARY:Eastham Food Pantry
DESCRIPTION:2nd and 4th Tuesday of each month\, 10am – 1pm\nIn order to receive food\, former military personnel must bring proof of their veteran status\, such as a DD-214 (issued upon a service member’s retirement\, separation\, or discharge from active duty)\, and they must meet criteria for assistance as defined by The Emergency Food Assistance Program (TEFAP).
URL:https://capeveterans.com/event/eastham-food-pantry/2024-01-09/
LOCATION:Elks Club\, 10 McKoy Rd\, Eastham\, MA\, 02642
ATTACH;FMTTYPE=image/jpeg:https://capeveterans.com/wp-content/uploads/2022/04/IMG_1748-scaled.jpeg
END:VEVENT
BEGIN:VEVENT
DTSTART;TZID=America/New_York:20240111T090000
DTEND;TZID=America/New_York:20240111T180000
DTSTAMP:20260421T165914
CREATED:20220413T133350Z
LAST-MODIFIED:20250602T161924Z
UID:10002730-1704963600-1704996000@capeveterans.com
SUMMARY:Hyannis: NEW Food Distribution Center\, 223 Stevens Street
DESCRIPTION:Every Thursday\, 9am – 6pm\nIn order to receive food\, former military personnel must bring proof of their veteran status\, such as a DD-214 (issued upon a service member’s retirement\, separation\, or discharge from active duty)\, and they must meet criteria for assistance as defined by The Emergency Food Assistance Program (TEFAP). \nA-I LAST NAMES 1ST & 3RD THURSDAY OF THE MONTH.\nJ-Z LAST NAMES 2ND & 4TH THURSDAY OF THE MONTH.
URL:https://capeveterans.com/event/hyannis-food-pantry/2024-01-11/
LOCATION:Hyannis: Food Distribution Center\, 223 Stevens St\, Hyannis\, MA\, 02601
ATTACH;FMTTYPE=image/jpeg:https://capeveterans.com/wp-content/uploads/2022/04/IMG_1748-scaled.jpeg
END:VEVENT
BEGIN:VEVENT
DTSTART;TZID=America/New_York:20240116T100000
DTEND;TZID=America/New_York:20240116T130000
DTSTAMP:20260421T165914
CREATED:20220413T135103Z
LAST-MODIFIED:20220413T140109Z
UID:10001058-1705399200-1705410000@capeveterans.com
SUMMARY:Falmouth Food Pantry
DESCRIPTION:1st and 3rd Tuesday of each month\, 10am – 1pm\nIn order to receive food\, former military personnel must bring proof of their veteran status\, such as a DD-214 (issued upon a service member’s retirement\, separation\, or discharge from active duty)\, and they must meet criteria for assistance as defined by The Emergency Food Assistance Program (TEFAP).
URL:https://capeveterans.com/event/falmouth-food-pantry-2/2024-01-16/
LOCATION:AmVets\, 366 Palmer Ave\, Falmouth\, MA\, 02540
ATTACH;FMTTYPE=image/jpeg:https://capeveterans.com/wp-content/uploads/2022/04/IMG_1748-scaled.jpeg
END:VEVENT
BEGIN:VEVENT
DTSTART;TZID=America/New_York:20240117T093000
DTEND;TZID=America/New_York:20240117T110000
DTSTAMP:20260421T165914
CREATED:20231205T182452Z
LAST-MODIFIED:20240116T203202Z
UID:10001686-1705483800-1705489200@capeveterans.com
SUMMARY:Barnstable Veterans Rendezvous Cafe: Permission to Pause
DESCRIPTION:Please join us for a “Permission to Pause” workshop lead by life coach Nancy Sawyer. *Please call 508-237-3349 to register for the event* \nWhat is Permission to Pause? \n“Permission to Pause is a workshop experience that offers a space to relax\, reflect and rejuvenate. It’s also an opportunity to learn the P.A.U.S.E. framework\, a powerful tool to help you manage stress and show up as a great version of you.”
URL:https://capeveterans.com/event/veterans-rendezvous-cafe-permission-to-pause-with-nancy-sawyer/
LOCATION:Barnstable Adult Community Center\, 825 Falmouth Road\, Hyannis\, MA\, 02601\, United States
ATTACH;FMTTYPE=image/jpeg:https://capeveterans.com/wp-content/uploads/2023/12/NSHeadshot0721.jpg
END:VEVENT
BEGIN:VEVENT
DTSTART;TZID=America/New_York:20240117T103000
DTEND;TZID=America/New_York:20240117T130000
DTSTAMP:20260421T165914
CREATED:20220413T140919Z
LAST-MODIFIED:20250602T181954Z
UID:10002926-1705487400-1705496400@capeveterans.com
SUMMARY:Martha’s Vineyard Food Pantry
DESCRIPTION:3rd Wednesday of each month\, 10am – 1pm\nIn order to receive food\, former military personnel must bring proof of their veteran status\, such as a DD-214 (issued upon a service member’s retirement\, separation\, or discharge from active duty)\, and they must meet criteria for assistance as defined by The Emergency Food Assistance Program (TEFAP).
URL:https://capeveterans.com/event/marthas-vineyard-food-pantry/2024-01-17/
LOCATION:Steamship Authority Parking Lot\, Vineyard Haven\, MA\, 02568
ATTACH;FMTTYPE=image/jpeg:https://capeveterans.com/wp-content/uploads/2022/04/IMG_1748-scaled.jpeg
END:VEVENT
BEGIN:VEVENT
DTSTART;TZID=America/New_York:20240118T090000
DTEND;TZID=America/New_York:20240118T180000
DTSTAMP:20260421T165914
CREATED:20220413T133350Z
LAST-MODIFIED:20250602T161924Z
UID:10002731-1705568400-1705600800@capeveterans.com
SUMMARY:Hyannis: NEW Food Distribution Center\, 223 Stevens Street
DESCRIPTION:Every Thursday\, 9am – 6pm\nIn order to receive food\, former military personnel must bring proof of their veteran status\, such as a DD-214 (issued upon a service member’s retirement\, separation\, or discharge from active duty)\, and they must meet criteria for assistance as defined by The Emergency Food Assistance Program (TEFAP). \nA-I LAST NAMES 1ST & 3RD THURSDAY OF THE MONTH.\nJ-Z LAST NAMES 2ND & 4TH THURSDAY OF THE MONTH.
URL:https://capeveterans.com/event/hyannis-food-pantry/2024-01-18/
LOCATION:Hyannis: Food Distribution Center\, 223 Stevens St\, Hyannis\, MA\, 02601
ATTACH;FMTTYPE=image/jpeg:https://capeveterans.com/wp-content/uploads/2022/04/IMG_1748-scaled.jpeg
END:VEVENT
BEGIN:VEVENT
DTSTART;TZID=America/New_York:20240123T110000
DTEND;TZID=America/New_York:20240123T130000
DTSTAMP:20260421T165914
CREATED:20220413T140416Z
LAST-MODIFIED:20240307T134537Z
UID:10001792-1706007600-1706014800@capeveterans.com
SUMMARY:Eastham Food Pantry
DESCRIPTION:2nd and 4th Tuesday of each month\, 11am – 1pm\nIn order to receive food\, former military personnel must bring proof of their veteran status\, such as a DD-214 (issued upon a service member’s retirement\, separation\, or discharge from active duty)\, and they must meet criteria for assistance as defined by The Emergency Food Assistance Program (TEFAP).
URL:https://capeveterans.com/event/eastham-food-pantry-2/2024-01-23/
LOCATION:Elks Club\, 10 McKoy Rd\, Eastham\, MA\, 02642
ATTACH;FMTTYPE=image/jpeg:https://capeveterans.com/wp-content/uploads/2022/04/IMG_1748-scaled.jpeg
END:VEVENT
BEGIN:VEVENT
DTSTART;TZID=America/New_York:20240125T090000
DTEND;TZID=America/New_York:20240125T180000
DTSTAMP:20260421T165914
CREATED:20220413T133350Z
LAST-MODIFIED:20250602T161924Z
UID:10002732-1706173200-1706205600@capeveterans.com
SUMMARY:Hyannis: NEW Food Distribution Center\, 223 Stevens Street
DESCRIPTION:Every Thursday\, 9am – 6pm\nIn order to receive food\, former military personnel must bring proof of their veteran status\, such as a DD-214 (issued upon a service member’s retirement\, separation\, or discharge from active duty)\, and they must meet criteria for assistance as defined by The Emergency Food Assistance Program (TEFAP). \nA-I LAST NAMES 1ST & 3RD THURSDAY OF THE MONTH.\nJ-Z LAST NAMES 2ND & 4TH THURSDAY OF THE MONTH.
URL:https://capeveterans.com/event/hyannis-food-pantry/2024-01-25/
LOCATION:Hyannis: Food Distribution Center\, 223 Stevens St\, Hyannis\, MA\, 02601
ATTACH;FMTTYPE=image/jpeg:https://capeveterans.com/wp-content/uploads/2022/04/IMG_1748-scaled.jpeg
END:VEVENT
BEGIN:VEVENT
DTSTART;TZID=America/New_York:20240125T171500
DTEND;TZID=America/New_York:20240125T183000
DTSTAMP:20260421T165914
CREATED:20231220T192139Z
LAST-MODIFIED:20240104T131555Z
UID:10001706-1706202900-1706207400@capeveterans.com
SUMMARY:Yoga for Stretch & Body Release for Female Veterans
DESCRIPTION:*This event is for female veterans \nJoin us for a class of yoga for stretch & body release with instructor Kaylin Orr. This yoga class will be suitable for all skill levels. This yoga class will work on releasing tension\, building flexibility and promoting relaxation. \n*There is a limit to 15 attendees\, please call Barbara-Anne Foley to register at 508-237-3349
URL:https://capeveterans.com/event/restorative-yoga-for-female-veterans/
LOCATION:Centerville Public Library\, 585 Main St\, Centerville\, MA\, 02632\, United States
CATEGORIES:Special Events
ATTACH;FMTTYPE=image/jpeg:https://capeveterans.com/wp-content/uploads/2023/12/1000027882.jpg
END:VEVENT
BEGIN:VEVENT
DTSTART;TZID=America/New_York:20240126T103000
DTEND;TZID=America/New_York:20240126T120000
DTSTAMP:20260421T165914
CREATED:20231205T190458Z
LAST-MODIFIED:20240116T195106Z
UID:10001689-1706265000-1706270400@capeveterans.com
SUMMARY:Wellfleet Veterans Rendezvous Cafe: Hot Chocolate & Valentines
DESCRIPTION:Please join us for hot chocolate and cookies. We will be making wooden Valentine ornaments\, all supplies to be provided by Cape & Islands Veterans Outreach Center.
URL:https://capeveterans.com/event/wellfleet-veterans-rendezvous-cafe-hot-chocolate-valentines/
LOCATION:Wellfleet Adult Community Center\, 715 Old Kings Highway\, Wellfleet
ATTACH;FMTTYPE=image/png:https://capeveterans.com/wp-content/uploads/2023/12/Screenshot-2024-01-16-144959.png
END:VEVENT
END:VCALENDAR