BEGIN:VCALENDAR
VERSION:2.0
PRODID:-//Cape and Islands Veterans Outreach Center - ECPv6.15.18//NONSGML v1.0//EN
CALSCALE:GREGORIAN
METHOD:PUBLISH
X-WR-CALNAME:Cape and Islands Veterans Outreach Center
X-ORIGINAL-URL:https://capeveterans.com
X-WR-CALDESC:Events for Cape and Islands Veterans Outreach Center
REFRESH-INTERVAL;VALUE=DURATION:PT1H
X-Robots-Tag:noindex
X-PUBLISHED-TTL:PT1H
BEGIN:VTIMEZONE
TZID:America/New_York
BEGIN:DAYLIGHT
TZOFFSETFROM:-0500
TZOFFSETTO:-0400
TZNAME:EDT
DTSTART:20240310T070000
END:DAYLIGHT
BEGIN:STANDARD
TZOFFSETFROM:-0400
TZOFFSETTO:-0500
TZNAME:EST
DTSTART:20241103T060000
END:STANDARD
BEGIN:DAYLIGHT
TZOFFSETFROM:-0500
TZOFFSETTO:-0400
TZNAME:EDT
DTSTART:20250309T070000
END:DAYLIGHT
BEGIN:STANDARD
TZOFFSETFROM:-0400
TZOFFSETTO:-0500
TZNAME:EST
DTSTART:20251102T060000
END:STANDARD
BEGIN:DAYLIGHT
TZOFFSETFROM:-0500
TZOFFSETTO:-0400
TZNAME:EDT
DTSTART:20260308T070000
END:DAYLIGHT
BEGIN:STANDARD
TZOFFSETFROM:-0400
TZOFFSETTO:-0500
TZNAME:EST
DTSTART:20261101T060000
END:STANDARD
BEGIN:DAYLIGHT
TZOFFSETFROM:-0500
TZOFFSETTO:-0400
TZNAME:EDT
DTSTART:20270314T070000
END:DAYLIGHT
BEGIN:STANDARD
TZOFFSETFROM:-0400
TZOFFSETTO:-0500
TZNAME:EST
DTSTART:20271107T060000
END:STANDARD
END:VTIMEZONE
BEGIN:VEVENT
DTSTART;TZID=America/New_York:20260206T080000
DTEND;TZID=America/New_York:20260206T170000
DTSTAMP:20260423T055750
CREATED:20250723T192451Z
LAST-MODIFIED:20250723T192451Z
UID:10003326-1770364800-1770397200@capeveterans.com
SUMMARY:R.E.D. Red Shirt Friday (Remember Everyone Deployed)
DESCRIPTION:Order Request\n\n\nT-Shirts are $20 each and will be ready for pickup within 5 to 7 business days.\nPLEASE NOTE T-SHIRT SIZES RUN LARGE. \nAfter you complete this order request\, a member of our team will reach out to coordinate your pickup. \nIf you have any questions\, please don’t hesitate to contact us at (508) 499-2200 or info@exitcaperealty.com.
URL:https://capeveterans.com/event/r-e-d-red-shirt-friday-remember-everyone-deployed/2026-02-06/
LOCATION:Exit Cape Realty\, North Falmouth office\, North Falmouth\, Ma
CATEGORIES:Special Events
ATTACH;FMTTYPE=image/jpeg:https://capeveterans.com/wp-content/uploads/2025/07/IMG_2855.jpg
ORGANIZER;CN="Exit Gives Back":MAILTO:info@exitcaperealty.com.
END:VEVENT
BEGIN:VEVENT
DTSTART;TZID=America/New_York:20260205T090000
DTEND;TZID=America/New_York:20260205T180000
DTSTAMP:20260423T055750
CREATED:20250602T160925Z
LAST-MODIFIED:20250602T162414Z
UID:10001547-1770282000-1770314400@capeveterans.com
SUMMARY:Hyannis: Food Distribution Center\, 223 Stevens Street
DESCRIPTION:Every Thursday\, 9am – 6pm\nIn order to receive food\, former military personnel must bring proof of their veteran status\, such as a DD-214 (issued upon a service member’s retirement\, separation\, or discharge from active duty)\, and they must meet criteria for assistance as defined by The Emergency Food Assistance Program (TEFAP). \nA-I LAST NAMES 1ST & 3RD THURSDAY OF THE MONTH.\nJ-Z LAST NAMES 2ND & 4TH THURSDAY OF THE MONTH\nCLOSED ON 5TH WEEK OF ANY MONTH
URL:https://capeveterans.com/event/hyannis-food-pantry-2-2/2026-02-05/
LOCATION:Hyannis: Food Distribution Center\, 223 Stevens St\, Hyannis\, MA\, 02601
ATTACH;FMTTYPE=image/jpeg:https://capeveterans.com/wp-content/uploads/2022/04/IMG_1748-scaled.jpeg
END:VEVENT
BEGIN:VEVENT
DTSTART;TZID=America/New_York:20260205T080000
DTEND;TZID=America/New_York:20260205T130000
DTSTAMP:20260423T055750
CREATED:20260130T134051Z
LAST-MODIFIED:20260130T135957Z
UID:10003582-1770278400-1770296400@capeveterans.com
SUMMARY:Wilkins Family Dental Hygine Clinic
DESCRIPTION:
URL:https://capeveterans.com/event/wilkins-dental-clinic/
LOCATION:CIVOC\, 247 Stevens Street Suite E\, Hyannis\, 02601\, United States
ATTACH;FMTTYPE=application/pdf:https://capeveterans.com/wp-content/uploads/2026/01/Dental-2.pdf
END:VEVENT
BEGIN:VEVENT
DTSTART;TZID=America/New_York:20260204T090000
DTEND;TZID=America/New_York:20260204T120000
DTSTAMP:20260423T055750
CREATED:20250528T173739Z
LAST-MODIFIED:20250528T174057Z
UID:10002374-1770195600-1770206400@capeveterans.com
SUMMARY:Legal Clinic with Chantal Rice\, Esq.
DESCRIPTION:
URL:https://capeveterans.com/event/legal-clinic-with-chantal-rice-esq/2026-02-04/
LOCATION:CIVOC HQ\, 247 STEVENS STREET SUITE E\, HYANNIS\, MA\, 02601\, United States
CATEGORIES:Special Events
ATTACH;FMTTYPE=image/png:https://capeveterans.com/wp-content/uploads/2025/05/Legal-Clinic-July-through-December-2025-dates.png
END:VEVENT
BEGIN:VEVENT
DTSTART;TZID=America/New_York:20260203T100000
DTEND;TZID=America/New_York:20260203T130000
DTSTAMP:20260423T055750
CREATED:20250603T124333Z
LAST-MODIFIED:20250819T151644Z
UID:10001014-1770112800-1770123600@capeveterans.com
SUMMARY:Falmouth Food Pantry
DESCRIPTION:1st and 3rd Tuesday of each month\, 10am – 1pm\nIn order to receive food\, former military personnel must bring proof of their veteran status\, such as a DD-214 (issued upon a service member’s retirement\, separation\, or discharge from active duty)\, and they must meet criteria for assistance as defined by The Emergency Food Assistance Program (TEFAP).
URL:https://capeveterans.com/event/falmouth-food-pantry-3/2026-02-03/
LOCATION:AmVets\, 366 Palmer Ave\, Falmouth\, MA\, 02540
ATTACH;FMTTYPE=image/jpeg:https://capeveterans.com/wp-content/uploads/2022/04/IMG_1748-scaled.jpeg
END:VEVENT
BEGIN:VEVENT
DTSTART;TZID=America/New_York:20260130T080000
DTEND;TZID=America/New_York:20260130T170000
DTSTAMP:20260423T055750
CREATED:20250723T192451Z
LAST-MODIFIED:20250723T192451Z
UID:10003325-1769760000-1769792400@capeveterans.com
SUMMARY:R.E.D. Red Shirt Friday (Remember Everyone Deployed)
DESCRIPTION:Order Request\n\n\nT-Shirts are $20 each and will be ready for pickup within 5 to 7 business days.\nPLEASE NOTE T-SHIRT SIZES RUN LARGE. \nAfter you complete this order request\, a member of our team will reach out to coordinate your pickup. \nIf you have any questions\, please don’t hesitate to contact us at (508) 499-2200 or info@exitcaperealty.com.
URL:https://capeveterans.com/event/r-e-d-red-shirt-friday-remember-everyone-deployed/2026-01-30/
LOCATION:Exit Cape Realty\, North Falmouth office\, North Falmouth\, Ma
CATEGORIES:Special Events
ATTACH;FMTTYPE=image/jpeg:https://capeveterans.com/wp-content/uploads/2025/07/IMG_2855.jpg
ORGANIZER;CN="Exit Gives Back":MAILTO:info@exitcaperealty.com.
END:VEVENT
BEGIN:VEVENT
DTSTART;TZID=America/New_York:20260129T090000
DTEND;TZID=America/New_York:20260129T180000
DTSTAMP:20260423T055750
CREATED:20250602T160925Z
LAST-MODIFIED:20250602T162414Z
UID:10001546-1769677200-1769709600@capeveterans.com
SUMMARY:Hyannis: Food Distribution Center\, 223 Stevens Street
DESCRIPTION:Every Thursday\, 9am – 6pm\nIn order to receive food\, former military personnel must bring proof of their veteran status\, such as a DD-214 (issued upon a service member’s retirement\, separation\, or discharge from active duty)\, and they must meet criteria for assistance as defined by The Emergency Food Assistance Program (TEFAP). \nA-I LAST NAMES 1ST & 3RD THURSDAY OF THE MONTH.\nJ-Z LAST NAMES 2ND & 4TH THURSDAY OF THE MONTH\nCLOSED ON 5TH WEEK OF ANY MONTH
URL:https://capeveterans.com/event/hyannis-food-pantry-2-2/2026-01-29/
LOCATION:Hyannis: Food Distribution Center\, 223 Stevens St\, Hyannis\, MA\, 02601
ATTACH;FMTTYPE=image/jpeg:https://capeveterans.com/wp-content/uploads/2022/04/IMG_1748-scaled.jpeg
END:VEVENT
BEGIN:VEVENT
DTSTART;TZID=America/New_York:20260128T110000
DTEND;TZID=America/New_York:20260128T130000
DTSTAMP:20260423T055750
CREATED:20240701T195130Z
LAST-MODIFIED:20240701T195532Z
UID:10002072-1769598000-1769605200@capeveterans.com
SUMMARY:Wareham Food Pantry
DESCRIPTION:Second and Fourth Wednesday MONTHLY\, 11am – 1pm at Wareham Council on Aging\, 48 Marion Road.
URL:https://capeveterans.com/event/wareham-food-pantry/2026-01-28/
LOCATION:Wareham Council on Aging\, 48 Marion Rd\, Wareham\, MA\, 02671\, United States
ATTACH;FMTTYPE=image/jpeg:https://capeveterans.com/wp-content/uploads/2022/04/IMG_1748-scaled.jpeg
END:VEVENT
BEGIN:VEVENT
DTSTART;TZID=America/New_York:20260127T110000
DTEND;TZID=America/New_York:20260127T130000
DTSTAMP:20260423T055750
CREATED:20220413T140416Z
LAST-MODIFIED:20240307T134537Z
UID:10001816-1769511600-1769518800@capeveterans.com
SUMMARY:Eastham Food Pantry
DESCRIPTION:2nd and 4th Tuesday of each month\, 11am – 1pm\nIn order to receive food\, former military personnel must bring proof of their veteran status\, such as a DD-214 (issued upon a service member’s retirement\, separation\, or discharge from active duty)\, and they must meet criteria for assistance as defined by The Emergency Food Assistance Program (TEFAP).
URL:https://capeveterans.com/event/eastham-food-pantry-2/2026-01-27/
LOCATION:Elks Club\, 10 McKoy Rd\, Eastham\, MA\, 02642
ATTACH;FMTTYPE=image/jpeg:https://capeveterans.com/wp-content/uploads/2022/04/IMG_1748-scaled.jpeg
END:VEVENT
BEGIN:VEVENT
DTSTART;TZID=America/New_York:20260123T080000
DTEND;TZID=America/New_York:20260123T170000
DTSTAMP:20260423T055750
CREATED:20250723T192451Z
LAST-MODIFIED:20250723T192451Z
UID:10003324-1769155200-1769187600@capeveterans.com
SUMMARY:R.E.D. Red Shirt Friday (Remember Everyone Deployed)
DESCRIPTION:Order Request\n\n\nT-Shirts are $20 each and will be ready for pickup within 5 to 7 business days.\nPLEASE NOTE T-SHIRT SIZES RUN LARGE. \nAfter you complete this order request\, a member of our team will reach out to coordinate your pickup. \nIf you have any questions\, please don’t hesitate to contact us at (508) 499-2200 or info@exitcaperealty.com.
URL:https://capeveterans.com/event/r-e-d-red-shirt-friday-remember-everyone-deployed/2026-01-23/
LOCATION:Exit Cape Realty\, North Falmouth office\, North Falmouth\, Ma
CATEGORIES:Special Events
ATTACH;FMTTYPE=image/jpeg:https://capeveterans.com/wp-content/uploads/2025/07/IMG_2855.jpg
ORGANIZER;CN="Exit Gives Back":MAILTO:info@exitcaperealty.com.
END:VEVENT
BEGIN:VEVENT
DTSTART;TZID=America/New_York:20260122T090000
DTEND;TZID=America/New_York:20260122T180000
DTSTAMP:20260423T055750
CREATED:20250602T160925Z
LAST-MODIFIED:20250602T162414Z
UID:10001545-1769072400-1769104800@capeveterans.com
SUMMARY:Hyannis: Food Distribution Center\, 223 Stevens Street
DESCRIPTION:Every Thursday\, 9am – 6pm\nIn order to receive food\, former military personnel must bring proof of their veteran status\, such as a DD-214 (issued upon a service member’s retirement\, separation\, or discharge from active duty)\, and they must meet criteria for assistance as defined by The Emergency Food Assistance Program (TEFAP). \nA-I LAST NAMES 1ST & 3RD THURSDAY OF THE MONTH.\nJ-Z LAST NAMES 2ND & 4TH THURSDAY OF THE MONTH\nCLOSED ON 5TH WEEK OF ANY MONTH
URL:https://capeveterans.com/event/hyannis-food-pantry-2-2/2026-01-22/
LOCATION:Hyannis: Food Distribution Center\, 223 Stevens St\, Hyannis\, MA\, 02601
ATTACH;FMTTYPE=image/jpeg:https://capeveterans.com/wp-content/uploads/2022/04/IMG_1748-scaled.jpeg
END:VEVENT
BEGIN:VEVENT
DTSTART;TZID=America/New_York:20260121T103000
DTEND;TZID=America/New_York:20260121T130000
DTSTAMP:20260423T055750
CREATED:20220413T140919Z
LAST-MODIFIED:20250602T181954Z
UID:10002950-1768991400-1769000400@capeveterans.com
SUMMARY:Martha’s Vineyard Food Pantry
DESCRIPTION:3rd Wednesday of each month\, 10am – 1pm\nIn order to receive food\, former military personnel must bring proof of their veteran status\, such as a DD-214 (issued upon a service member’s retirement\, separation\, or discharge from active duty)\, and they must meet criteria for assistance as defined by The Emergency Food Assistance Program (TEFAP).
URL:https://capeveterans.com/event/marthas-vineyard-food-pantry/2026-01-21/
LOCATION:Steamship Authority Parking Lot\, Vineyard Haven\, MA\, 02568
ATTACH;FMTTYPE=image/jpeg:https://capeveterans.com/wp-content/uploads/2022/04/IMG_1748-scaled.jpeg
END:VEVENT
BEGIN:VEVENT
DTSTART;TZID=America/New_York:20260121T093000
DTEND;TZID=America/New_York:20260121T103000
DTSTAMP:20260423T055750
CREATED:20251218T121239Z
LAST-MODIFIED:20251218T121239Z
UID:10003578-1768987800-1768991400@capeveterans.com
SUMMARY:Barnstable Rendezvous
DESCRIPTION:Veterans Rendezvous Café \nWednesday\, January 21Barnstable Adult Community Center \nPlease join us for our monthly Veterans Rendezvous Café as we welcome Detective Chris Botsford of the Barnstable Police Department. Detective Botsford will present on the latest scams targeting older adults and provide an overview of the Silver Alert Program. \nCoffee and doughnuts will be provided.
URL:https://capeveterans.com/event/barnstable-rendezvous/
LOCATION:Barnstable Adult Community Center\, 825 Falmouth Road\, Hyannis\, MA\, 02601\, United States
ATTACH;FMTTYPE=application/pdf:https://capeveterans.com/wp-content/uploads/2025/12/Barnstable-Veteran-Rendezvous-Cafe-1.21.2026-2.pdf
END:VEVENT
BEGIN:VEVENT
DTSTART;TZID=America/New_York:20260120T100000
DTEND;TZID=America/New_York:20260120T120000
DTSTAMP:20260423T055750
CREATED:20250602T181251Z
LAST-MODIFIED:20250603T124556Z
UID:10001082-1768903200-1768910400@capeveterans.com
SUMMARY:Falmouth Food Pantry
DESCRIPTION:1st and 3rd Tuesday of each month\, 10am – 12pm\nIn order to receive food\, former military personnel must bring proof of their veteran status\, such as a DD-214 (issued upon a service member’s retirement\, separation\, or discharge from active duty)\, and they must meet criteria for assistance as defined by The Emergency Food Assistance Program (TEFAP).
URL:https://capeveterans.com/event/falmouth-food-pantry-2-2/2026-01-20/
LOCATION:AmVets\, 366 Palmer Ave\, Falmouth\, MA\, 02540
ATTACH;FMTTYPE=image/jpeg:https://capeveterans.com/wp-content/uploads/2022/04/IMG_1748-scaled.jpeg
END:VEVENT
BEGIN:VEVENT
DTSTART;TZID=America/New_York:20260116T080000
DTEND;TZID=America/New_York:20260116T170000
DTSTAMP:20260423T055750
CREATED:20250723T192451Z
LAST-MODIFIED:20250723T192451Z
UID:10003323-1768550400-1768582800@capeveterans.com
SUMMARY:R.E.D. Red Shirt Friday (Remember Everyone Deployed)
DESCRIPTION:Order Request\n\n\nT-Shirts are $20 each and will be ready for pickup within 5 to 7 business days.\nPLEASE NOTE T-SHIRT SIZES RUN LARGE. \nAfter you complete this order request\, a member of our team will reach out to coordinate your pickup. \nIf you have any questions\, please don’t hesitate to contact us at (508) 499-2200 or info@exitcaperealty.com.
URL:https://capeveterans.com/event/r-e-d-red-shirt-friday-remember-everyone-deployed/2026-01-16/
LOCATION:Exit Cape Realty\, North Falmouth office\, North Falmouth\, Ma
CATEGORIES:Special Events
ATTACH;FMTTYPE=image/jpeg:https://capeveterans.com/wp-content/uploads/2025/07/IMG_2855.jpg
ORGANIZER;CN="Exit Gives Back":MAILTO:info@exitcaperealty.com.
END:VEVENT
BEGIN:VEVENT
DTSTART;TZID=America/New_York:20260115T090000
DTEND;TZID=America/New_York:20260115T180000
DTSTAMP:20260423T055750
CREATED:20250602T160925Z
LAST-MODIFIED:20250602T162414Z
UID:10001544-1768467600-1768500000@capeveterans.com
SUMMARY:Hyannis: Food Distribution Center\, 223 Stevens Street
DESCRIPTION:Every Thursday\, 9am – 6pm\nIn order to receive food\, former military personnel must bring proof of their veteran status\, such as a DD-214 (issued upon a service member’s retirement\, separation\, or discharge from active duty)\, and they must meet criteria for assistance as defined by The Emergency Food Assistance Program (TEFAP). \nA-I LAST NAMES 1ST & 3RD THURSDAY OF THE MONTH.\nJ-Z LAST NAMES 2ND & 4TH THURSDAY OF THE MONTH\nCLOSED ON 5TH WEEK OF ANY MONTH
URL:https://capeveterans.com/event/hyannis-food-pantry-2-2/2026-01-15/
LOCATION:Hyannis: Food Distribution Center\, 223 Stevens St\, Hyannis\, MA\, 02601
ATTACH;FMTTYPE=image/jpeg:https://capeveterans.com/wp-content/uploads/2022/04/IMG_1748-scaled.jpeg
END:VEVENT
BEGIN:VEVENT
DTSTART;TZID=America/New_York:20260114T110000
DTEND;TZID=America/New_York:20260114T130000
DTSTAMP:20260423T055750
CREATED:20250602T181332Z
LAST-MODIFIED:20250602T181333Z
UID:10002132-1768388400-1768395600@capeveterans.com
SUMMARY:Wareham Food Pantry
DESCRIPTION:Second and Fourth Wednesday MONTHLY\, 11am – 1pm at Wareham Council on Aging\, 48 Marion Road.
URL:https://capeveterans.com/event/wareham-food-pantry-2-2/2026-01-14/
LOCATION:Wareham Council on Aging\, 48 Marion Rd\, Wareham\, MA\, 02671\, United States
ATTACH;FMTTYPE=image/jpeg:https://capeveterans.com/wp-content/uploads/2022/04/IMG_1748-scaled.jpeg
END:VEVENT
BEGIN:VEVENT
DTSTART;TZID=America/New_York:20260113T100000
DTEND;TZID=America/New_York:20260113T120000
DTSTAMP:20260423T055750
CREATED:20240306T181929Z
LAST-MODIFIED:20250602T181102Z
UID:10002811-1768298400-1768305600@capeveterans.com
SUMMARY:Eastham Food Pantry
DESCRIPTION:2nd and 4th Tuesday of each month\, 10am – 12pm\nIn order to receive food\, former military personnel must bring proof of their veteran status\, such as a DD-214 (issued upon a service member’s retirement\, separation\, or discharge from active duty)\, and they must meet criteria for assistance as defined by The Emergency Food Assistance Program (TEFAP).
URL:https://capeveterans.com/event/eastham-food-pantry-3/2026-01-13/
LOCATION:Elks Club\, 10 McKoy Rd\, Eastham\, MA\, 02642
ATTACH;FMTTYPE=image/jpeg:https://capeveterans.com/wp-content/uploads/2022/04/IMG_1748-scaled.jpeg
END:VEVENT
BEGIN:VEVENT
DTSTART;TZID=America/New_York:20260109T080000
DTEND;TZID=America/New_York:20260109T170000
DTSTAMP:20260423T055750
CREATED:20250723T192451Z
LAST-MODIFIED:20250723T192451Z
UID:10003322-1767945600-1767978000@capeveterans.com
SUMMARY:R.E.D. Red Shirt Friday (Remember Everyone Deployed)
DESCRIPTION:Order Request\n\n\nT-Shirts are $20 each and will be ready for pickup within 5 to 7 business days.\nPLEASE NOTE T-SHIRT SIZES RUN LARGE. \nAfter you complete this order request\, a member of our team will reach out to coordinate your pickup. \nIf you have any questions\, please don’t hesitate to contact us at (508) 499-2200 or info@exitcaperealty.com.
URL:https://capeveterans.com/event/r-e-d-red-shirt-friday-remember-everyone-deployed/2026-01-09/
LOCATION:Exit Cape Realty\, North Falmouth office\, North Falmouth\, Ma
CATEGORIES:Special Events
ATTACH;FMTTYPE=image/jpeg:https://capeveterans.com/wp-content/uploads/2025/07/IMG_2855.jpg
ORGANIZER;CN="Exit Gives Back":MAILTO:info@exitcaperealty.com.
END:VEVENT
BEGIN:VEVENT
DTSTART;TZID=America/New_York:20260108T093000
DTEND;TZID=America/New_York:20260108T103000
DTSTAMP:20260423T055750
CREATED:20251218T122410Z
LAST-MODIFIED:20251218T122410Z
UID:10003580-1767864600-1767868200@capeveterans.com
SUMMARY:Veteran Rendezvous Cafe
DESCRIPTION:Join us at the Veterans Rendezvous Café as we welcome Fire Chief Lisa Albino of the Eastham Fire Department—the first female Fire Chief on Cape Cod. Fire Chief Albino will provide an informative presentation on fire prevention and safety\, and discuss the importance of maintaining a File of Life to ensure first responders have critical medical information readily available in an emergency.
URL:https://capeveterans.com/event/veteran-rendezvous-cafe/
LOCATION:Eastham Senior Center\, 1405 Nauset Rd\, Eastham\, MA\, 02642\, United States
ATTACH;FMTTYPE=application/pdf:https://capeveterans.com/wp-content/uploads/2025/12/Eastham-Rendezvous-1.8.2026-2.pdf
END:VEVENT
BEGIN:VEVENT
DTSTART;TZID=America/New_York:20260108T090000
DTEND;TZID=America/New_York:20260108T180000
DTSTAMP:20260423T055750
CREATED:20250602T160925Z
LAST-MODIFIED:20250602T162414Z
UID:10001543-1767862800-1767895200@capeveterans.com
SUMMARY:Hyannis: Food Distribution Center\, 223 Stevens Street
DESCRIPTION:Every Thursday\, 9am – 6pm\nIn order to receive food\, former military personnel must bring proof of their veteran status\, such as a DD-214 (issued upon a service member’s retirement\, separation\, or discharge from active duty)\, and they must meet criteria for assistance as defined by The Emergency Food Assistance Program (TEFAP). \nA-I LAST NAMES 1ST & 3RD THURSDAY OF THE MONTH.\nJ-Z LAST NAMES 2ND & 4TH THURSDAY OF THE MONTH\nCLOSED ON 5TH WEEK OF ANY MONTH
URL:https://capeveterans.com/event/hyannis-food-pantry-2-2/2026-01-08/
LOCATION:Hyannis: Food Distribution Center\, 223 Stevens St\, Hyannis\, MA\, 02601
ATTACH;FMTTYPE=image/jpeg:https://capeveterans.com/wp-content/uploads/2022/04/IMG_1748-scaled.jpeg
END:VEVENT
BEGIN:VEVENT
DTSTART;TZID=America/New_York:20260107T090000
DTEND;TZID=America/New_York:20260107T120000
DTSTAMP:20260423T055750
CREATED:20250528T173739Z
LAST-MODIFIED:20250528T174057Z
UID:10002373-1767776400-1767787200@capeveterans.com
SUMMARY:Legal Clinic with Chantal Rice\, Esq.
DESCRIPTION:
URL:https://capeveterans.com/event/legal-clinic-with-chantal-rice-esq/2026-01-07/
LOCATION:CIVOC HQ\, 247 STEVENS STREET SUITE E\, HYANNIS\, MA\, 02601\, United States
CATEGORIES:Special Events
ATTACH;FMTTYPE=image/png:https://capeveterans.com/wp-content/uploads/2025/05/Legal-Clinic-July-through-December-2025-dates.png
END:VEVENT
BEGIN:VEVENT
DTSTART;TZID=America/New_York:20260106T100000
DTEND;TZID=America/New_York:20260106T130000
DTSTAMP:20260423T055750
CREATED:20250603T124333Z
LAST-MODIFIED:20250819T151644Z
UID:10001013-1767693600-1767704400@capeveterans.com
SUMMARY:Falmouth Food Pantry
DESCRIPTION:1st and 3rd Tuesday of each month\, 10am – 1pm\nIn order to receive food\, former military personnel must bring proof of their veteran status\, such as a DD-214 (issued upon a service member’s retirement\, separation\, or discharge from active duty)\, and they must meet criteria for assistance as defined by The Emergency Food Assistance Program (TEFAP).
URL:https://capeveterans.com/event/falmouth-food-pantry-3/2026-01-06/
LOCATION:AmVets\, 366 Palmer Ave\, Falmouth\, MA\, 02540
ATTACH;FMTTYPE=image/jpeg:https://capeveterans.com/wp-content/uploads/2022/04/IMG_1748-scaled.jpeg
END:VEVENT
BEGIN:VEVENT
DTSTART;TZID=America/New_York:20260102T080000
DTEND;TZID=America/New_York:20260102T170000
DTSTAMP:20260423T055750
CREATED:20250723T192451Z
LAST-MODIFIED:20250723T192451Z
UID:10003321-1767340800-1767373200@capeveterans.com
SUMMARY:R.E.D. Red Shirt Friday (Remember Everyone Deployed)
DESCRIPTION:Order Request\n\n\nT-Shirts are $20 each and will be ready for pickup within 5 to 7 business days.\nPLEASE NOTE T-SHIRT SIZES RUN LARGE. \nAfter you complete this order request\, a member of our team will reach out to coordinate your pickup. \nIf you have any questions\, please don’t hesitate to contact us at (508) 499-2200 or info@exitcaperealty.com.
URL:https://capeveterans.com/event/r-e-d-red-shirt-friday-remember-everyone-deployed/2026-01-02/
LOCATION:Exit Cape Realty\, North Falmouth office\, North Falmouth\, Ma
CATEGORIES:Special Events
ATTACH;FMTTYPE=image/jpeg:https://capeveterans.com/wp-content/uploads/2025/07/IMG_2855.jpg
ORGANIZER;CN="Exit Gives Back":MAILTO:info@exitcaperealty.com.
END:VEVENT
BEGIN:VEVENT
DTSTART;TZID=America/New_York:20260101T090000
DTEND;TZID=America/New_York:20260101T180000
DTSTAMP:20260423T055750
CREATED:20250602T160925Z
LAST-MODIFIED:20250602T162414Z
UID:10001542-1767258000-1767290400@capeveterans.com
SUMMARY:Hyannis: Food Distribution Center\, 223 Stevens Street
DESCRIPTION:Every Thursday\, 9am – 6pm\nIn order to receive food\, former military personnel must bring proof of their veteran status\, such as a DD-214 (issued upon a service member’s retirement\, separation\, or discharge from active duty)\, and they must meet criteria for assistance as defined by The Emergency Food Assistance Program (TEFAP). \nA-I LAST NAMES 1ST & 3RD THURSDAY OF THE MONTH.\nJ-Z LAST NAMES 2ND & 4TH THURSDAY OF THE MONTH\nCLOSED ON 5TH WEEK OF ANY MONTH
URL:https://capeveterans.com/event/hyannis-food-pantry-2-2/2026-01-01/
LOCATION:Hyannis: Food Distribution Center\, 223 Stevens St\, Hyannis\, MA\, 02601
ATTACH;FMTTYPE=image/jpeg:https://capeveterans.com/wp-content/uploads/2022/04/IMG_1748-scaled.jpeg
END:VEVENT
BEGIN:VEVENT
DTSTART;TZID=America/New_York:20251226T080000
DTEND;TZID=America/New_York:20251226T170000
DTSTAMP:20260423T055750
CREATED:20250723T192451Z
LAST-MODIFIED:20250723T192451Z
UID:10003320-1766736000-1766768400@capeveterans.com
SUMMARY:R.E.D. Red Shirt Friday (Remember Everyone Deployed)
DESCRIPTION:Order Request\n\n\nT-Shirts are $20 each and will be ready for pickup within 5 to 7 business days.\nPLEASE NOTE T-SHIRT SIZES RUN LARGE. \nAfter you complete this order request\, a member of our team will reach out to coordinate your pickup. \nIf you have any questions\, please don’t hesitate to contact us at (508) 499-2200 or info@exitcaperealty.com.
URL:https://capeveterans.com/event/r-e-d-red-shirt-friday-remember-everyone-deployed/2025-12-26/
LOCATION:Exit Cape Realty\, North Falmouth office\, North Falmouth\, Ma
CATEGORIES:Special Events
ATTACH;FMTTYPE=image/jpeg:https://capeveterans.com/wp-content/uploads/2025/07/IMG_2855.jpg
ORGANIZER;CN="Exit Gives Back":MAILTO:info@exitcaperealty.com.
END:VEVENT
BEGIN:VEVENT
DTSTART;TZID=America/New_York:20251225T090000
DTEND;TZID=America/New_York:20251225T180000
DTSTAMP:20260423T055750
CREATED:20250602T160925Z
LAST-MODIFIED:20250602T162414Z
UID:10001541-1766653200-1766685600@capeveterans.com
SUMMARY:Hyannis: Food Distribution Center\, 223 Stevens Street
DESCRIPTION:Every Thursday\, 9am – 6pm\nIn order to receive food\, former military personnel must bring proof of their veteran status\, such as a DD-214 (issued upon a service member’s retirement\, separation\, or discharge from active duty)\, and they must meet criteria for assistance as defined by The Emergency Food Assistance Program (TEFAP). \nA-I LAST NAMES 1ST & 3RD THURSDAY OF THE MONTH.\nJ-Z LAST NAMES 2ND & 4TH THURSDAY OF THE MONTH\nCLOSED ON 5TH WEEK OF ANY MONTH
URL:https://capeveterans.com/event/hyannis-food-pantry-2-2/2025-12-25/
LOCATION:Hyannis: Food Distribution Center\, 223 Stevens St\, Hyannis\, MA\, 02601
ATTACH;FMTTYPE=image/jpeg:https://capeveterans.com/wp-content/uploads/2022/04/IMG_1748-scaled.jpeg
END:VEVENT
BEGIN:VEVENT
DTSTART;TZID=America/New_York:20251224T110000
DTEND;TZID=America/New_York:20251224T130000
DTSTAMP:20260423T055750
CREATED:20240701T195130Z
LAST-MODIFIED:20240701T195532Z
UID:10002071-1766574000-1766581200@capeveterans.com
SUMMARY:Wareham Food Pantry
DESCRIPTION:Second and Fourth Wednesday MONTHLY\, 11am – 1pm at Wareham Council on Aging\, 48 Marion Road.
URL:https://capeveterans.com/event/wareham-food-pantry/2025-12-24/
LOCATION:Wareham Council on Aging\, 48 Marion Rd\, Wareham\, MA\, 02671\, United States
ATTACH;FMTTYPE=image/jpeg:https://capeveterans.com/wp-content/uploads/2022/04/IMG_1748-scaled.jpeg
END:VEVENT
BEGIN:VEVENT
DTSTART;TZID=America/New_York:20251223T110000
DTEND;TZID=America/New_York:20251223T130000
DTSTAMP:20260423T055750
CREATED:20220413T140416Z
LAST-MODIFIED:20240307T134537Z
UID:10001815-1766487600-1766494800@capeveterans.com
SUMMARY:Eastham Food Pantry
DESCRIPTION:2nd and 4th Tuesday of each month\, 11am – 1pm\nIn order to receive food\, former military personnel must bring proof of their veteran status\, such as a DD-214 (issued upon a service member’s retirement\, separation\, or discharge from active duty)\, and they must meet criteria for assistance as defined by The Emergency Food Assistance Program (TEFAP).
URL:https://capeveterans.com/event/eastham-food-pantry-2/2025-12-23/
LOCATION:Elks Club\, 10 McKoy Rd\, Eastham\, MA\, 02642
ATTACH;FMTTYPE=image/jpeg:https://capeveterans.com/wp-content/uploads/2022/04/IMG_1748-scaled.jpeg
END:VEVENT
BEGIN:VEVENT
DTSTART;TZID=America/New_York:20251223T090000
DTEND;TZID=America/New_York:20251223T110000
DTSTAMP:20260423T055750
CREATED:20251218T124901Z
LAST-MODIFIED:20251218T124901Z
UID:10003581-1766480400-1766487600@capeveterans.com
SUMMARY:Holiday Grab n Go Meals
DESCRIPTION:This initiative will provide a much-needed holiday meal to more than 300 individuals across Cape Cod during the holiday season. It represents a meaningful community giveback made possible through a collaborative partnership with the Cape Cod Senior Resource Group and Elder Services\, reflecting a shared commitment to supporting older adults and those in need throughout our region. \nMeals can be picked up at the following locations: Bridges by Epoch at Mashpee\, Laurentide at Mashpee Commons\, Freestyle Living (Yarmouth)\, The Victorian Broad Reach Healthcare (Chatham)\, and The Terraces Orleans. \nReserve your meal by calling 508.396.4630 x280 between 9:00am – 11:00am \nSupplies limited!
URL:https://capeveterans.com/event/holiday-grab-n-go-meals/
ATTACH;FMTTYPE=image/jpeg:https://capeveterans.com/wp-content/uploads/2025/12/unnamed.jpg
END:VEVENT
END:VCALENDAR