BEGIN:VCALENDAR
VERSION:2.0
PRODID:-//Cape and Islands Veterans Outreach Center - ECPv6.15.18//NONSGML v1.0//EN
CALSCALE:GREGORIAN
METHOD:PUBLISH
X-ORIGINAL-URL:https://capeveterans.com
X-WR-CALDESC:Events for Cape and Islands Veterans Outreach Center
REFRESH-INTERVAL;VALUE=DURATION:PT1H
X-Robots-Tag:noindex
X-PUBLISHED-TTL:PT1H
BEGIN:VTIMEZONE
TZID:America/New_York
BEGIN:DAYLIGHT
TZOFFSETFROM:-0500
TZOFFSETTO:-0400
TZNAME:EDT
DTSTART:20220313T070000
END:DAYLIGHT
BEGIN:STANDARD
TZOFFSETFROM:-0400
TZOFFSETTO:-0500
TZNAME:EST
DTSTART:20221106T060000
END:STANDARD
BEGIN:DAYLIGHT
TZOFFSETFROM:-0500
TZOFFSETTO:-0400
TZNAME:EDT
DTSTART:20230312T070000
END:DAYLIGHT
BEGIN:STANDARD
TZOFFSETFROM:-0400
TZOFFSETTO:-0500
TZNAME:EST
DTSTART:20231105T060000
END:STANDARD
BEGIN:DAYLIGHT
TZOFFSETFROM:-0500
TZOFFSETTO:-0400
TZNAME:EDT
DTSTART:20240310T070000
END:DAYLIGHT
BEGIN:STANDARD
TZOFFSETFROM:-0400
TZOFFSETTO:-0500
TZNAME:EST
DTSTART:20241103T060000
END:STANDARD
END:VTIMEZONE
BEGIN:VEVENT
DTSTART;TZID=America/New_York:20230523T110000
DTEND;TZID=America/New_York:20230523T130000
DTSTAMP:20260423T044127
CREATED:20220413T140416Z
LAST-MODIFIED:20240307T134537Z
UID:10001785-1684839600-1684846800@capeveterans.com
SUMMARY:Eastham Food Pantry
DESCRIPTION:2nd and 4th Tuesday of each month\, 11am – 1pm\nIn order to receive food\, former military personnel must bring proof of their veteran status\, such as a DD-214 (issued upon a service member’s retirement\, separation\, or discharge from active duty)\, and they must meet criteria for assistance as defined by The Emergency Food Assistance Program (TEFAP).
URL:https://capeveterans.com/event/eastham-food-pantry-2/2023-05-23/
LOCATION:Elks Club\, 10 McKoy Rd\, Eastham\, MA\, 02642
ATTACH;FMTTYPE=image/jpeg:https://capeveterans.com/wp-content/uploads/2022/04/IMG_1748-scaled.jpeg
END:VEVENT
BEGIN:VEVENT
DTSTART;TZID=America/New_York:20230525T090000
DTEND;TZID=America/New_York:20230525T180000
DTSTAMP:20260423T044127
CREATED:20220413T133350Z
LAST-MODIFIED:20250602T161924Z
UID:10002697-1685005200-1685037600@capeveterans.com
SUMMARY:Hyannis: NEW Food Distribution Center\, 223 Stevens Street
DESCRIPTION:Every Thursday\, 9am – 6pm\nIn order to receive food\, former military personnel must bring proof of their veteran status\, such as a DD-214 (issued upon a service member’s retirement\, separation\, or discharge from active duty)\, and they must meet criteria for assistance as defined by The Emergency Food Assistance Program (TEFAP). \nA-I LAST NAMES 1ST & 3RD THURSDAY OF THE MONTH.\nJ-Z LAST NAMES 2ND & 4TH THURSDAY OF THE MONTH.
URL:https://capeveterans.com/event/hyannis-food-pantry/2023-05-25/
LOCATION:Hyannis: Food Distribution Center\, 223 Stevens St\, Hyannis\, MA\, 02601
ATTACH;FMTTYPE=image/jpeg:https://capeveterans.com/wp-content/uploads/2022/04/IMG_1748-scaled.jpeg
END:VEVENT
BEGIN:VEVENT
DTSTART;TZID=America/New_York:20230601T090000
DTEND;TZID=America/New_York:20230601T180000
DTSTAMP:20260423T044127
CREATED:20220413T133350Z
LAST-MODIFIED:20250602T161924Z
UID:10002698-1685610000-1685642400@capeveterans.com
SUMMARY:Hyannis: NEW Food Distribution Center\, 223 Stevens Street
DESCRIPTION:Every Thursday\, 9am – 6pm\nIn order to receive food\, former military personnel must bring proof of their veteran status\, such as a DD-214 (issued upon a service member’s retirement\, separation\, or discharge from active duty)\, and they must meet criteria for assistance as defined by The Emergency Food Assistance Program (TEFAP). \nA-I LAST NAMES 1ST & 3RD THURSDAY OF THE MONTH.\nJ-Z LAST NAMES 2ND & 4TH THURSDAY OF THE MONTH.
URL:https://capeveterans.com/event/hyannis-food-pantry/2023-06-01/
LOCATION:Hyannis: Food Distribution Center\, 223 Stevens St\, Hyannis\, MA\, 02601
ATTACH;FMTTYPE=image/jpeg:https://capeveterans.com/wp-content/uploads/2022/04/IMG_1748-scaled.jpeg
END:VEVENT
BEGIN:VEVENT
DTSTART;TZID=America/New_York:20230606T100000
DTEND;TZID=America/New_York:20230606T120000
DTSTAMP:20260423T044127
CREATED:20220413T134920Z
LAST-MODIFIED:20250603T125434Z
UID:10000982-1686045600-1686052800@capeveterans.com
SUMMARY:Falmouth Food Pantry
DESCRIPTION:1st and 3rd Tuesday of each month\, 10am – 12pm\nIn order to receive food\, former military personnel must bring proof of their veteran status\, such as a DD-214 (issued upon a service member’s retirement\, separation\, or discharge from active duty)\, and they must meet criteria for assistance as defined by The Emergency Food Assistance Program (TEFAP).
URL:https://capeveterans.com/event/falmouth-food-pantry/2023-06-06/
LOCATION:AmVets\, 366 Palmer Ave\, Falmouth\, MA\, 02540
ATTACH;FMTTYPE=image/jpeg:https://capeveterans.com/wp-content/uploads/2022/04/IMG_1748-scaled.jpeg
END:VEVENT
BEGIN:VEVENT
DTSTART;TZID=America/New_York:20230608T090000
DTEND;TZID=America/New_York:20230608T180000
DTSTAMP:20260423T044127
CREATED:20220413T133350Z
LAST-MODIFIED:20250602T161924Z
UID:10002699-1686214800-1686247200@capeveterans.com
SUMMARY:Hyannis: NEW Food Distribution Center\, 223 Stevens Street
DESCRIPTION:Every Thursday\, 9am – 6pm\nIn order to receive food\, former military personnel must bring proof of their veteran status\, such as a DD-214 (issued upon a service member’s retirement\, separation\, or discharge from active duty)\, and they must meet criteria for assistance as defined by The Emergency Food Assistance Program (TEFAP). \nA-I LAST NAMES 1ST & 3RD THURSDAY OF THE MONTH.\nJ-Z LAST NAMES 2ND & 4TH THURSDAY OF THE MONTH.
URL:https://capeveterans.com/event/hyannis-food-pantry/2023-06-08/
LOCATION:Hyannis: Food Distribution Center\, 223 Stevens St\, Hyannis\, MA\, 02601
ATTACH;FMTTYPE=image/jpeg:https://capeveterans.com/wp-content/uploads/2022/04/IMG_1748-scaled.jpeg
END:VEVENT
BEGIN:VEVENT
DTSTART;TZID=America/New_York:20230613T100000
DTEND;TZID=America/New_York:20230613T130000
DTSTAMP:20260423T044127
CREATED:20220413T135458Z
LAST-MODIFIED:20250602T150654Z
UID:10001119-1686650400-1686661200@capeveterans.com
SUMMARY:Eastham Food Pantry
DESCRIPTION:2nd and 4th Tuesday of each month\, 10am – 1pm\nIn order to receive food\, former military personnel must bring proof of their veteran status\, such as a DD-214 (issued upon a service member’s retirement\, separation\, or discharge from active duty)\, and they must meet criteria for assistance as defined by The Emergency Food Assistance Program (TEFAP).
URL:https://capeveterans.com/event/eastham-food-pantry/2023-06-13/
LOCATION:Elks Club\, 10 McKoy Rd\, Eastham\, MA\, 02642
ATTACH;FMTTYPE=image/jpeg:https://capeveterans.com/wp-content/uploads/2022/04/IMG_1748-scaled.jpeg
END:VEVENT
BEGIN:VEVENT
DTSTART;TZID=America/New_York:20230615T090000
DTEND;TZID=America/New_York:20230615T180000
DTSTAMP:20260423T044127
CREATED:20220413T133350Z
LAST-MODIFIED:20250602T161924Z
UID:10002700-1686819600-1686852000@capeveterans.com
SUMMARY:Hyannis: NEW Food Distribution Center\, 223 Stevens Street
DESCRIPTION:Every Thursday\, 9am – 6pm\nIn order to receive food\, former military personnel must bring proof of their veteran status\, such as a DD-214 (issued upon a service member’s retirement\, separation\, or discharge from active duty)\, and they must meet criteria for assistance as defined by The Emergency Food Assistance Program (TEFAP). \nA-I LAST NAMES 1ST & 3RD THURSDAY OF THE MONTH.\nJ-Z LAST NAMES 2ND & 4TH THURSDAY OF THE MONTH.
URL:https://capeveterans.com/event/hyannis-food-pantry/2023-06-15/
LOCATION:Hyannis: Food Distribution Center\, 223 Stevens St\, Hyannis\, MA\, 02601
ATTACH;FMTTYPE=image/jpeg:https://capeveterans.com/wp-content/uploads/2022/04/IMG_1748-scaled.jpeg
END:VEVENT
BEGIN:VEVENT
DTSTART;TZID=America/New_York:20230620T100000
DTEND;TZID=America/New_York:20230620T130000
DTSTAMP:20260423T044127
CREATED:20220413T135103Z
LAST-MODIFIED:20220413T140109Z
UID:10001051-1687255200-1687266000@capeveterans.com
SUMMARY:Falmouth Food Pantry
DESCRIPTION:1st and 3rd Tuesday of each month\, 10am – 1pm\nIn order to receive food\, former military personnel must bring proof of their veteran status\, such as a DD-214 (issued upon a service member’s retirement\, separation\, or discharge from active duty)\, and they must meet criteria for assistance as defined by The Emergency Food Assistance Program (TEFAP).
URL:https://capeveterans.com/event/falmouth-food-pantry-2/2023-06-20/
LOCATION:AmVets\, 366 Palmer Ave\, Falmouth\, MA\, 02540
ATTACH;FMTTYPE=image/jpeg:https://capeveterans.com/wp-content/uploads/2022/04/IMG_1748-scaled.jpeg
END:VEVENT
BEGIN:VEVENT
DTSTART;TZID=America/New_York:20230621T103000
DTEND;TZID=America/New_York:20230621T130000
DTSTAMP:20260423T044127
CREATED:20220413T140919Z
LAST-MODIFIED:20250602T181954Z
UID:10002919-1687343400-1687352400@capeveterans.com
SUMMARY:Martha’s Vineyard Food Pantry
DESCRIPTION:3rd Wednesday of each month\, 10am – 1pm\nIn order to receive food\, former military personnel must bring proof of their veteran status\, such as a DD-214 (issued upon a service member’s retirement\, separation\, or discharge from active duty)\, and they must meet criteria for assistance as defined by The Emergency Food Assistance Program (TEFAP).
URL:https://capeveterans.com/event/marthas-vineyard-food-pantry/2023-06-21/
LOCATION:Steamship Authority Parking Lot\, Vineyard Haven\, MA\, 02568
ATTACH;FMTTYPE=image/jpeg:https://capeveterans.com/wp-content/uploads/2022/04/IMG_1748-scaled.jpeg
END:VEVENT
BEGIN:VEVENT
DTSTART;TZID=America/New_York:20230622T090000
DTEND;TZID=America/New_York:20230622T180000
DTSTAMP:20260423T044127
CREATED:20220413T133350Z
LAST-MODIFIED:20250602T161924Z
UID:10002701-1687424400-1687456800@capeveterans.com
SUMMARY:Hyannis: NEW Food Distribution Center\, 223 Stevens Street
DESCRIPTION:Every Thursday\, 9am – 6pm\nIn order to receive food\, former military personnel must bring proof of their veteran status\, such as a DD-214 (issued upon a service member’s retirement\, separation\, or discharge from active duty)\, and they must meet criteria for assistance as defined by The Emergency Food Assistance Program (TEFAP). \nA-I LAST NAMES 1ST & 3RD THURSDAY OF THE MONTH.\nJ-Z LAST NAMES 2ND & 4TH THURSDAY OF THE MONTH.
URL:https://capeveterans.com/event/hyannis-food-pantry/2023-06-22/
LOCATION:Hyannis: Food Distribution Center\, 223 Stevens St\, Hyannis\, MA\, 02601
ATTACH;FMTTYPE=image/jpeg:https://capeveterans.com/wp-content/uploads/2022/04/IMG_1748-scaled.jpeg
END:VEVENT
BEGIN:VEVENT
DTSTART;TZID=America/New_York:20230627T110000
DTEND;TZID=America/New_York:20230627T130000
DTSTAMP:20260423T044127
CREATED:20220413T140416Z
LAST-MODIFIED:20240307T134537Z
UID:10001786-1687863600-1687870800@capeveterans.com
SUMMARY:Eastham Food Pantry
DESCRIPTION:2nd and 4th Tuesday of each month\, 11am – 1pm\nIn order to receive food\, former military personnel must bring proof of their veteran status\, such as a DD-214 (issued upon a service member’s retirement\, separation\, or discharge from active duty)\, and they must meet criteria for assistance as defined by The Emergency Food Assistance Program (TEFAP).
URL:https://capeveterans.com/event/eastham-food-pantry-2/2023-06-27/
LOCATION:Elks Club\, 10 McKoy Rd\, Eastham\, MA\, 02642
ATTACH;FMTTYPE=image/jpeg:https://capeveterans.com/wp-content/uploads/2022/04/IMG_1748-scaled.jpeg
END:VEVENT
BEGIN:VEVENT
DTSTART;TZID=America/New_York:20230629T090000
DTEND;TZID=America/New_York:20230629T180000
DTSTAMP:20260423T044127
CREATED:20220413T133350Z
LAST-MODIFIED:20250602T161924Z
UID:10002702-1688029200-1688061600@capeveterans.com
SUMMARY:Hyannis: NEW Food Distribution Center\, 223 Stevens Street
DESCRIPTION:Every Thursday\, 9am – 6pm\nIn order to receive food\, former military personnel must bring proof of their veteran status\, such as a DD-214 (issued upon a service member’s retirement\, separation\, or discharge from active duty)\, and they must meet criteria for assistance as defined by The Emergency Food Assistance Program (TEFAP). \nA-I LAST NAMES 1ST & 3RD THURSDAY OF THE MONTH.\nJ-Z LAST NAMES 2ND & 4TH THURSDAY OF THE MONTH.
URL:https://capeveterans.com/event/hyannis-food-pantry/2023-06-29/
LOCATION:Hyannis: Food Distribution Center\, 223 Stevens St\, Hyannis\, MA\, 02601
ATTACH;FMTTYPE=image/jpeg:https://capeveterans.com/wp-content/uploads/2022/04/IMG_1748-scaled.jpeg
END:VEVENT
BEGIN:VEVENT
DTSTART;TZID=America/New_York:20230704T100000
DTEND;TZID=America/New_York:20230704T120000
DTSTAMP:20260423T044127
CREATED:20220413T134920Z
LAST-MODIFIED:20250603T125434Z
UID:10000983-1688464800-1688472000@capeveterans.com
SUMMARY:Falmouth Food Pantry
DESCRIPTION:1st and 3rd Tuesday of each month\, 10am – 12pm\nIn order to receive food\, former military personnel must bring proof of their veteran status\, such as a DD-214 (issued upon a service member’s retirement\, separation\, or discharge from active duty)\, and they must meet criteria for assistance as defined by The Emergency Food Assistance Program (TEFAP).
URL:https://capeveterans.com/event/falmouth-food-pantry/2023-07-04/
LOCATION:AmVets\, 366 Palmer Ave\, Falmouth\, MA\, 02540
ATTACH;FMTTYPE=image/jpeg:https://capeveterans.com/wp-content/uploads/2022/04/IMG_1748-scaled.jpeg
END:VEVENT
BEGIN:VEVENT
DTSTART;TZID=America/New_York:20230706T090000
DTEND;TZID=America/New_York:20230706T180000
DTSTAMP:20260423T044127
CREATED:20220413T133350Z
LAST-MODIFIED:20250602T161924Z
UID:10002703-1688634000-1688666400@capeveterans.com
SUMMARY:Hyannis: NEW Food Distribution Center\, 223 Stevens Street
DESCRIPTION:Every Thursday\, 9am – 6pm\nIn order to receive food\, former military personnel must bring proof of their veteran status\, such as a DD-214 (issued upon a service member’s retirement\, separation\, or discharge from active duty)\, and they must meet criteria for assistance as defined by The Emergency Food Assistance Program (TEFAP). \nA-I LAST NAMES 1ST & 3RD THURSDAY OF THE MONTH.\nJ-Z LAST NAMES 2ND & 4TH THURSDAY OF THE MONTH.
URL:https://capeveterans.com/event/hyannis-food-pantry/2023-07-06/
LOCATION:Hyannis: Food Distribution Center\, 223 Stevens St\, Hyannis\, MA\, 02601
ATTACH;FMTTYPE=image/jpeg:https://capeveterans.com/wp-content/uploads/2022/04/IMG_1748-scaled.jpeg
END:VEVENT
BEGIN:VEVENT
DTSTART;TZID=America/New_York:20230711T100000
DTEND;TZID=America/New_York:20230711T130000
DTSTAMP:20260423T044127
CREATED:20220413T135458Z
LAST-MODIFIED:20250602T150654Z
UID:10001120-1689069600-1689080400@capeveterans.com
SUMMARY:Eastham Food Pantry
DESCRIPTION:2nd and 4th Tuesday of each month\, 10am – 1pm\nIn order to receive food\, former military personnel must bring proof of their veteran status\, such as a DD-214 (issued upon a service member’s retirement\, separation\, or discharge from active duty)\, and they must meet criteria for assistance as defined by The Emergency Food Assistance Program (TEFAP).
URL:https://capeveterans.com/event/eastham-food-pantry/2023-07-11/
LOCATION:Elks Club\, 10 McKoy Rd\, Eastham\, MA\, 02642
ATTACH;FMTTYPE=image/jpeg:https://capeveterans.com/wp-content/uploads/2022/04/IMG_1748-scaled.jpeg
END:VEVENT
BEGIN:VEVENT
DTSTART;TZID=America/New_York:20230713T090000
DTEND;TZID=America/New_York:20230713T180000
DTSTAMP:20260423T044127
CREATED:20220413T133350Z
LAST-MODIFIED:20250602T161924Z
UID:10002704-1689238800-1689271200@capeveterans.com
SUMMARY:Hyannis: NEW Food Distribution Center\, 223 Stevens Street
DESCRIPTION:Every Thursday\, 9am – 6pm\nIn order to receive food\, former military personnel must bring proof of their veteran status\, such as a DD-214 (issued upon a service member’s retirement\, separation\, or discharge from active duty)\, and they must meet criteria for assistance as defined by The Emergency Food Assistance Program (TEFAP). \nA-I LAST NAMES 1ST & 3RD THURSDAY OF THE MONTH.\nJ-Z LAST NAMES 2ND & 4TH THURSDAY OF THE MONTH.
URL:https://capeveterans.com/event/hyannis-food-pantry/2023-07-13/
LOCATION:Hyannis: Food Distribution Center\, 223 Stevens St\, Hyannis\, MA\, 02601
ATTACH;FMTTYPE=image/jpeg:https://capeveterans.com/wp-content/uploads/2022/04/IMG_1748-scaled.jpeg
END:VEVENT
BEGIN:VEVENT
DTSTART;TZID=America/New_York:20230718T100000
DTEND;TZID=America/New_York:20230718T130000
DTSTAMP:20260423T044127
CREATED:20220413T135103Z
LAST-MODIFIED:20220413T140109Z
UID:10001052-1689674400-1689685200@capeveterans.com
SUMMARY:Falmouth Food Pantry
DESCRIPTION:1st and 3rd Tuesday of each month\, 10am – 1pm\nIn order to receive food\, former military personnel must bring proof of their veteran status\, such as a DD-214 (issued upon a service member’s retirement\, separation\, or discharge from active duty)\, and they must meet criteria for assistance as defined by The Emergency Food Assistance Program (TEFAP).
URL:https://capeveterans.com/event/falmouth-food-pantry-2/2023-07-18/
LOCATION:AmVets\, 366 Palmer Ave\, Falmouth\, MA\, 02540
ATTACH;FMTTYPE=image/jpeg:https://capeveterans.com/wp-content/uploads/2022/04/IMG_1748-scaled.jpeg
END:VEVENT
BEGIN:VEVENT
DTSTART;TZID=America/New_York:20230719T103000
DTEND;TZID=America/New_York:20230719T130000
DTSTAMP:20260423T044127
CREATED:20220413T140919Z
LAST-MODIFIED:20250602T181954Z
UID:10002920-1689762600-1689771600@capeveterans.com
SUMMARY:Martha’s Vineyard Food Pantry
DESCRIPTION:3rd Wednesday of each month\, 10am – 1pm\nIn order to receive food\, former military personnel must bring proof of their veteran status\, such as a DD-214 (issued upon a service member’s retirement\, separation\, or discharge from active duty)\, and they must meet criteria for assistance as defined by The Emergency Food Assistance Program (TEFAP).
URL:https://capeveterans.com/event/marthas-vineyard-food-pantry/2023-07-19/
LOCATION:Steamship Authority Parking Lot\, Vineyard Haven\, MA\, 02568
ATTACH;FMTTYPE=image/jpeg:https://capeveterans.com/wp-content/uploads/2022/04/IMG_1748-scaled.jpeg
END:VEVENT
BEGIN:VEVENT
DTSTART;TZID=America/New_York:20230720T090000
DTEND;TZID=America/New_York:20230720T180000
DTSTAMP:20260423T044127
CREATED:20220413T133350Z
LAST-MODIFIED:20250602T161924Z
UID:10002705-1689843600-1689876000@capeveterans.com
SUMMARY:Hyannis: NEW Food Distribution Center\, 223 Stevens Street
DESCRIPTION:Every Thursday\, 9am – 6pm\nIn order to receive food\, former military personnel must bring proof of their veteran status\, such as a DD-214 (issued upon a service member’s retirement\, separation\, or discharge from active duty)\, and they must meet criteria for assistance as defined by The Emergency Food Assistance Program (TEFAP). \nA-I LAST NAMES 1ST & 3RD THURSDAY OF THE MONTH.\nJ-Z LAST NAMES 2ND & 4TH THURSDAY OF THE MONTH.
URL:https://capeveterans.com/event/hyannis-food-pantry/2023-07-20/
LOCATION:Hyannis: Food Distribution Center\, 223 Stevens St\, Hyannis\, MA\, 02601
ATTACH;FMTTYPE=image/jpeg:https://capeveterans.com/wp-content/uploads/2022/04/IMG_1748-scaled.jpeg
END:VEVENT
BEGIN:VEVENT
DTSTART;TZID=America/New_York:20230725T110000
DTEND;TZID=America/New_York:20230725T130000
DTSTAMP:20260423T044127
CREATED:20220413T140416Z
LAST-MODIFIED:20240307T134537Z
UID:10001787-1690282800-1690290000@capeveterans.com
SUMMARY:Eastham Food Pantry
DESCRIPTION:2nd and 4th Tuesday of each month\, 11am – 1pm\nIn order to receive food\, former military personnel must bring proof of their veteran status\, such as a DD-214 (issued upon a service member’s retirement\, separation\, or discharge from active duty)\, and they must meet criteria for assistance as defined by The Emergency Food Assistance Program (TEFAP).
URL:https://capeveterans.com/event/eastham-food-pantry-2/2023-07-25/
LOCATION:Elks Club\, 10 McKoy Rd\, Eastham\, MA\, 02642
ATTACH;FMTTYPE=image/jpeg:https://capeveterans.com/wp-content/uploads/2022/04/IMG_1748-scaled.jpeg
END:VEVENT
BEGIN:VEVENT
DTSTART;TZID=America/New_York:20230727T090000
DTEND;TZID=America/New_York:20230727T180000
DTSTAMP:20260423T044127
CREATED:20220413T133350Z
LAST-MODIFIED:20250602T161924Z
UID:10002706-1690448400-1690480800@capeveterans.com
SUMMARY:Hyannis: NEW Food Distribution Center\, 223 Stevens Street
DESCRIPTION:Every Thursday\, 9am – 6pm\nIn order to receive food\, former military personnel must bring proof of their veteran status\, such as a DD-214 (issued upon a service member’s retirement\, separation\, or discharge from active duty)\, and they must meet criteria for assistance as defined by The Emergency Food Assistance Program (TEFAP). \nA-I LAST NAMES 1ST & 3RD THURSDAY OF THE MONTH.\nJ-Z LAST NAMES 2ND & 4TH THURSDAY OF THE MONTH.
URL:https://capeveterans.com/event/hyannis-food-pantry/2023-07-27/
LOCATION:Hyannis: Food Distribution Center\, 223 Stevens St\, Hyannis\, MA\, 02601
ATTACH;FMTTYPE=image/jpeg:https://capeveterans.com/wp-content/uploads/2022/04/IMG_1748-scaled.jpeg
END:VEVENT
BEGIN:VEVENT
DTSTART;TZID=America/New_York:20230801T100000
DTEND;TZID=America/New_York:20230801T120000
DTSTAMP:20260423T044127
CREATED:20220413T134920Z
LAST-MODIFIED:20250603T125434Z
UID:10000984-1690884000-1690891200@capeveterans.com
SUMMARY:Falmouth Food Pantry
DESCRIPTION:1st and 3rd Tuesday of each month\, 10am – 12pm\nIn order to receive food\, former military personnel must bring proof of their veteran status\, such as a DD-214 (issued upon a service member’s retirement\, separation\, or discharge from active duty)\, and they must meet criteria for assistance as defined by The Emergency Food Assistance Program (TEFAP).
URL:https://capeveterans.com/event/falmouth-food-pantry/2023-08-01/
LOCATION:AmVets\, 366 Palmer Ave\, Falmouth\, MA\, 02540
ATTACH;FMTTYPE=image/jpeg:https://capeveterans.com/wp-content/uploads/2022/04/IMG_1748-scaled.jpeg
END:VEVENT
BEGIN:VEVENT
DTSTART;TZID=America/New_York:20230801T171500
DTEND;TZID=America/New_York:20230801T203000
DTSTAMP:20260423T044127
CREATED:20230726T162913Z
LAST-MODIFIED:20230726T162913Z
UID:10001665-1690910100-1690921800@capeveterans.com
SUMMARY:Hyannis Harbor Hawks Veteran Appreciation Night
DESCRIPTION:Active Military and Veterans are invited to stand on the field during the national anthem. Veterans\, and Veteran Family Members\, are invited to come and have some Baseball fun! \nThe VA/Vet Center program will be providing information on VA Benefits and programs at the game.
URL:https://capeveterans.com/event/hyannis-harbor-hawks-veteran-appreciation-night/
LOCATION:MA
END:VEVENT
BEGIN:VEVENT
DTSTART;TZID=America/New_York:20230802T093000
DTEND;TZID=America/New_York:20230802T110000
DTSTAMP:20260423T044127
CREATED:20230725T153458Z
LAST-MODIFIED:20230725T154205Z
UID:10001657-1690968600-1690974000@capeveterans.com
SUMMARY:Veterans Rendezvous Cafe
DESCRIPTION:The 3-5-0 Girls present about the 350\,000 Cape & Islands women who served during WWII.
URL:https://capeveterans.com/event/veterans-rendezvous-cafe-4/
LOCATION:Barnstable Adult Community Center\, 825 Falmouth Road\, Hyannis\, MA\, 02601\, United States
END:VEVENT
BEGIN:VEVENT
DTSTART;TZID=America/New_York:20230803T090000
DTEND;TZID=America/New_York:20230803T180000
DTSTAMP:20260423T044127
CREATED:20220413T133350Z
LAST-MODIFIED:20250602T161924Z
UID:10002707-1691053200-1691085600@capeveterans.com
SUMMARY:Hyannis: NEW Food Distribution Center\, 223 Stevens Street
DESCRIPTION:Every Thursday\, 9am – 6pm\nIn order to receive food\, former military personnel must bring proof of their veteran status\, such as a DD-214 (issued upon a service member’s retirement\, separation\, or discharge from active duty)\, and they must meet criteria for assistance as defined by The Emergency Food Assistance Program (TEFAP). \nA-I LAST NAMES 1ST & 3RD THURSDAY OF THE MONTH.\nJ-Z LAST NAMES 2ND & 4TH THURSDAY OF THE MONTH.
URL:https://capeveterans.com/event/hyannis-food-pantry/2023-08-03/
LOCATION:Hyannis: Food Distribution Center\, 223 Stevens St\, Hyannis\, MA\, 02601
ATTACH;FMTTYPE=image/jpeg:https://capeveterans.com/wp-content/uploads/2022/04/IMG_1748-scaled.jpeg
END:VEVENT
BEGIN:VEVENT
DTSTART;TZID=America/New_York:20230808T100000
DTEND;TZID=America/New_York:20230808T130000
DTSTAMP:20260423T044127
CREATED:20220413T135458Z
LAST-MODIFIED:20250602T150654Z
UID:10001121-1691488800-1691499600@capeveterans.com
SUMMARY:Eastham Food Pantry
DESCRIPTION:2nd and 4th Tuesday of each month\, 10am – 1pm\nIn order to receive food\, former military personnel must bring proof of their veteran status\, such as a DD-214 (issued upon a service member’s retirement\, separation\, or discharge from active duty)\, and they must meet criteria for assistance as defined by The Emergency Food Assistance Program (TEFAP).
URL:https://capeveterans.com/event/eastham-food-pantry/2023-08-08/
LOCATION:Elks Club\, 10 McKoy Rd\, Eastham\, MA\, 02642
ATTACH;FMTTYPE=image/jpeg:https://capeveterans.com/wp-content/uploads/2022/04/IMG_1748-scaled.jpeg
END:VEVENT
BEGIN:VEVENT
DTSTART;TZID=America/New_York:20230810T090000
DTEND;TZID=America/New_York:20230810T180000
DTSTAMP:20260423T044127
CREATED:20220413T133350Z
LAST-MODIFIED:20250602T161924Z
UID:10002708-1691658000-1691690400@capeveterans.com
SUMMARY:Hyannis: NEW Food Distribution Center\, 223 Stevens Street
DESCRIPTION:Every Thursday\, 9am – 6pm\nIn order to receive food\, former military personnel must bring proof of their veteran status\, such as a DD-214 (issued upon a service member’s retirement\, separation\, or discharge from active duty)\, and they must meet criteria for assistance as defined by The Emergency Food Assistance Program (TEFAP). \nA-I LAST NAMES 1ST & 3RD THURSDAY OF THE MONTH.\nJ-Z LAST NAMES 2ND & 4TH THURSDAY OF THE MONTH.
URL:https://capeveterans.com/event/hyannis-food-pantry/2023-08-10/
LOCATION:Hyannis: Food Distribution Center\, 223 Stevens St\, Hyannis\, MA\, 02601
ATTACH;FMTTYPE=image/jpeg:https://capeveterans.com/wp-content/uploads/2022/04/IMG_1748-scaled.jpeg
END:VEVENT
BEGIN:VEVENT
DTSTART;TZID=America/New_York:20230812T080000
DTEND;TZID=America/New_York:20230812T093000
DTSTAMP:20260423T044127
CREATED:20230808T151139Z
LAST-MODIFIED:20230808T151139Z
UID:10001667-1691827200-1691832600@capeveterans.com
SUMMARY:Falmouth Elks Club Veterans Breakfast
DESCRIPTION:
URL:https://capeveterans.com/event/falmouth-elks-club-veterans-breakfast/
LOCATION:Falmouth Elks Club\, 140 Palmer Avenue\, Falmouth
END:VEVENT
BEGIN:VEVENT
DTSTART;TZID=America/New_York:20230815T090000
DTEND;TZID=America/New_York:20230815T090000
DTSTAMP:20260423T044127
CREATED:20230808T150726Z
LAST-MODIFIED:20230808T150953Z
UID:10001666-1692090000-1692090000@capeveterans.com
SUMMARY:Barnstable Crisis Intervention Team Mtg
DESCRIPTION:
URL:https://capeveterans.com/event/falmouth-veterans-breakfast-elks-club/
LOCATION:Barnstable Police Station\, 1200 Phinney's Lane\, Barnstable
END:VEVENT
BEGIN:VEVENT
DTSTART;TZID=America/New_York:20230815T100000
DTEND;TZID=America/New_York:20230815T130000
DTSTAMP:20260423T044127
CREATED:20220413T135103Z
LAST-MODIFIED:20220413T140109Z
UID:10001053-1692093600-1692104400@capeveterans.com
SUMMARY:Falmouth Food Pantry
DESCRIPTION:1st and 3rd Tuesday of each month\, 10am – 1pm\nIn order to receive food\, former military personnel must bring proof of their veteran status\, such as a DD-214 (issued upon a service member’s retirement\, separation\, or discharge from active duty)\, and they must meet criteria for assistance as defined by The Emergency Food Assistance Program (TEFAP).
URL:https://capeveterans.com/event/falmouth-food-pantry-2/2023-08-15/
LOCATION:AmVets\, 366 Palmer Ave\, Falmouth\, MA\, 02540
ATTACH;FMTTYPE=image/jpeg:https://capeveterans.com/wp-content/uploads/2022/04/IMG_1748-scaled.jpeg
END:VEVENT
END:VCALENDAR