BEGIN:VCALENDAR
VERSION:2.0
PRODID:-//Cape and Islands Veterans Outreach Center - ECPv6.15.18//NONSGML v1.0//EN
CALSCALE:GREGORIAN
METHOD:PUBLISH
X-WR-CALNAME:Cape and Islands Veterans Outreach Center
X-ORIGINAL-URL:https://capeveterans.com
X-WR-CALDESC:Events for Cape and Islands Veterans Outreach Center
REFRESH-INTERVAL;VALUE=DURATION:PT1H
X-Robots-Tag:noindex
X-PUBLISHED-TTL:PT1H
BEGIN:VTIMEZONE
TZID:America/New_York
BEGIN:DAYLIGHT
TZOFFSETFROM:-0500
TZOFFSETTO:-0400
TZNAME:EDT
DTSTART:20240310T070000
END:DAYLIGHT
BEGIN:STANDARD
TZOFFSETFROM:-0400
TZOFFSETTO:-0500
TZNAME:EST
DTSTART:20241103T060000
END:STANDARD
BEGIN:DAYLIGHT
TZOFFSETFROM:-0500
TZOFFSETTO:-0400
TZNAME:EDT
DTSTART:20250309T070000
END:DAYLIGHT
BEGIN:STANDARD
TZOFFSETFROM:-0400
TZOFFSETTO:-0500
TZNAME:EST
DTSTART:20251102T060000
END:STANDARD
BEGIN:DAYLIGHT
TZOFFSETFROM:-0500
TZOFFSETTO:-0400
TZNAME:EDT
DTSTART:20260308T070000
END:DAYLIGHT
BEGIN:STANDARD
TZOFFSETFROM:-0400
TZOFFSETTO:-0500
TZNAME:EST
DTSTART:20261101T060000
END:STANDARD
END:VTIMEZONE
BEGIN:VEVENT
DTSTART;TZID=America/New_York:20250501T090000
DTEND;TZID=America/New_York:20250501T180000
DTSTAMP:20260423T112234
CREATED:20241219T142945Z
LAST-MODIFIED:20241219T142946Z
UID:10001507-1746090000-1746122400@capeveterans.com
SUMMARY:Hyannis: Food Distribution Center\, 233 Stevens Street
DESCRIPTION:Every Thursday\, 9am – 6pm\nIn order to receive food\, former military personnel must bring proof of their veteran status\, such as a DD-214 (issued upon a service member’s retirement\, separation\, or discharge from active duty)\, and they must meet criteria for assistance as defined by The Emergency Food Assistance Program (TEFAP).
URL:https://capeveterans.com/event/hyannis-food-pantry-2/2025-05-01/
LOCATION:Hyannis: Food Distribution Center\, 223 Stevens St\, Hyannis\, MA\, 02601
ATTACH;FMTTYPE=image/jpeg:https://capeveterans.com/wp-content/uploads/2022/04/IMG_1748-scaled.jpeg
END:VEVENT
BEGIN:VEVENT
DTSTART;TZID=America/New_York:20250430T100000
DTEND;TZID=America/New_York:20250430T120000
DTSTAMP:20260423T112234
CREATED:20250416T151417Z
LAST-MODIFIED:20250416T154613Z
UID:10002336-1746007200-1746014400@capeveterans.com
SUMMARY:MOTHERS DAY CARD MAKING WITH JOSEE BOURBEAU
DESCRIPTION:
URL:https://capeveterans.com/event/mothers-day-card-making-with-josee-bourbeau/
LOCATION:FREESTYLE LIVING\, 822 RTE 28\, SOUTH YARMOUTH\, MA
CATEGORIES:Special Events
ATTACH;FMTTYPE=image/png:https://capeveterans.com/wp-content/uploads/2025/04/Mothers-Day-card-making.png
END:VEVENT
BEGIN:VEVENT
DTSTART;TZID=America/New_York:20250424T110000
DTEND;TZID=America/New_York:20250424T140000
DTSTAMP:20260423T112234
CREATED:20250416T151838Z
LAST-MODIFIED:20250416T151838Z
UID:10002337-1745492400-1745503200@capeveterans.com
SUMMARY:Veteran Resource Fair
DESCRIPTION:
URL:https://capeveterans.com/event/veteran-resource-fair/
LOCATION:Cape Cod Community College\, 2240 Iyannough Road\, West Barnstable\, MA\, 02668
CATEGORIES:Special Events
ATTACH;FMTTYPE=image/jpeg:https://capeveterans.com/wp-content/uploads/2025/04/Adams-CCCC-Veteran-Resource-Fair-4Cs-flyer-2025-1-scaled.jpg
END:VEVENT
BEGIN:VEVENT
DTSTART;TZID=America/New_York:20250424T090000
DTEND;TZID=America/New_York:20250424T180000
DTSTAMP:20260423T112234
CREATED:20241219T142945Z
LAST-MODIFIED:20241219T142946Z
UID:10001506-1745485200-1745517600@capeveterans.com
SUMMARY:Hyannis: Food Distribution Center\, 233 Stevens Street
DESCRIPTION:Every Thursday\, 9am – 6pm\nIn order to receive food\, former military personnel must bring proof of their veteran status\, such as a DD-214 (issued upon a service member’s retirement\, separation\, or discharge from active duty)\, and they must meet criteria for assistance as defined by The Emergency Food Assistance Program (TEFAP).
URL:https://capeveterans.com/event/hyannis-food-pantry-2/2025-04-24/
LOCATION:Hyannis: Food Distribution Center\, 223 Stevens St\, Hyannis\, MA\, 02601
ATTACH;FMTTYPE=image/jpeg:https://capeveterans.com/wp-content/uploads/2022/04/IMG_1748-scaled.jpeg
END:VEVENT
BEGIN:VEVENT
DTSTART;TZID=America/New_York:20250423T110000
DTEND;TZID=America/New_York:20250423T130000
DTSTAMP:20260423T112234
CREATED:20240701T195130Z
LAST-MODIFIED:20240701T195532Z
UID:10002063-1745406000-1745413200@capeveterans.com
SUMMARY:Wareham Food Pantry
DESCRIPTION:Second and Fourth Wednesday MONTHLY\, 11am – 1pm at Wareham Council on Aging\, 48 Marion Road.
URL:https://capeveterans.com/event/wareham-food-pantry/2025-04-23/
LOCATION:Wareham Council on Aging\, 48 Marion Rd\, Wareham\, MA\, 02671\, United States
ATTACH;FMTTYPE=image/jpeg:https://capeveterans.com/wp-content/uploads/2022/04/IMG_1748-scaled.jpeg
END:VEVENT
BEGIN:VEVENT
DTSTART;TZID=America/New_York:20250422T110000
DTEND;TZID=America/New_York:20250422T130000
DTSTAMP:20260423T112234
CREATED:20220413T140416Z
LAST-MODIFIED:20240307T134537Z
UID:10001807-1745319600-1745326800@capeveterans.com
SUMMARY:Eastham Food Pantry
DESCRIPTION:2nd and 4th Tuesday of each month\, 11am – 1pm\nIn order to receive food\, former military personnel must bring proof of their veteran status\, such as a DD-214 (issued upon a service member’s retirement\, separation\, or discharge from active duty)\, and they must meet criteria for assistance as defined by The Emergency Food Assistance Program (TEFAP).
URL:https://capeveterans.com/event/eastham-food-pantry-2/2025-04-22/
LOCATION:Elks Club\, 10 McKoy Rd\, Eastham\, MA\, 02642
ATTACH;FMTTYPE=image/jpeg:https://capeveterans.com/wp-content/uploads/2022/04/IMG_1748-scaled.jpeg
END:VEVENT
BEGIN:VEVENT
DTSTART;TZID=America/New_York:20250417T090000
DTEND;TZID=America/New_York:20250417T180000
DTSTAMP:20260423T112234
CREATED:20241219T142945Z
LAST-MODIFIED:20241219T142946Z
UID:10001505-1744880400-1744912800@capeveterans.com
SUMMARY:Hyannis: Food Distribution Center\, 233 Stevens Street
DESCRIPTION:Every Thursday\, 9am – 6pm\nIn order to receive food\, former military personnel must bring proof of their veteran status\, such as a DD-214 (issued upon a service member’s retirement\, separation\, or discharge from active duty)\, and they must meet criteria for assistance as defined by The Emergency Food Assistance Program (TEFAP).
URL:https://capeveterans.com/event/hyannis-food-pantry-2/2025-04-17/
LOCATION:Hyannis: Food Distribution Center\, 223 Stevens St\, Hyannis\, MA\, 02601
ATTACH;FMTTYPE=image/jpeg:https://capeveterans.com/wp-content/uploads/2022/04/IMG_1748-scaled.jpeg
END:VEVENT
BEGIN:VEVENT
DTSTART;TZID=America/New_York:20250417T090000
DTEND;TZID=America/New_York:20250417T103000
DTSTAMP:20260423T112234
CREATED:20250416T160638Z
LAST-MODIFIED:20250416T160638Z
UID:10002346-1744880400-1744885800@capeveterans.com
SUMMARY:Eastham Veterans Rendezvous Cafe
DESCRIPTION:
URL:https://capeveterans.com/event/eastham-veterans-rendezvous-cafe-2/
LOCATION:Eastham Senior Center\, 1405 Nauset Rd\, Eastham\, MA\, 02642\, United States
CATEGORIES:Special Events
ATTACH;FMTTYPE=image/png:https://capeveterans.com/wp-content/uploads/2025/04/Easter-Eastham-Rendezvous.png
END:VEVENT
BEGIN:VEVENT
DTSTART;TZID=America/New_York:20250416T103000
DTEND;TZID=America/New_York:20250416T130000
DTSTAMP:20260423T112234
CREATED:20220413T140919Z
LAST-MODIFIED:20250602T181954Z
UID:10002941-1744799400-1744808400@capeveterans.com
SUMMARY:Martha’s Vineyard Food Pantry
DESCRIPTION:3rd Wednesday of each month\, 10am – 1pm\nIn order to receive food\, former military personnel must bring proof of their veteran status\, such as a DD-214 (issued upon a service member’s retirement\, separation\, or discharge from active duty)\, and they must meet criteria for assistance as defined by The Emergency Food Assistance Program (TEFAP).
URL:https://capeveterans.com/event/marthas-vineyard-food-pantry/2025-04-16/
LOCATION:Steamship Authority Parking Lot\, Vineyard Haven\, MA\, 02568
ATTACH;FMTTYPE=image/jpeg:https://capeveterans.com/wp-content/uploads/2022/04/IMG_1748-scaled.jpeg
END:VEVENT
BEGIN:VEVENT
DTSTART;TZID=America/New_York:20250415T100000
DTEND;TZID=America/New_York:20250415T130000
DTSTAMP:20260423T112234
CREATED:20220413T135103Z
LAST-MODIFIED:20220413T140109Z
UID:10001073-1744711200-1744722000@capeveterans.com
SUMMARY:Falmouth Food Pantry
DESCRIPTION:1st and 3rd Tuesday of each month\, 10am – 1pm\nIn order to receive food\, former military personnel must bring proof of their veteran status\, such as a DD-214 (issued upon a service member’s retirement\, separation\, or discharge from active duty)\, and they must meet criteria for assistance as defined by The Emergency Food Assistance Program (TEFAP).
URL:https://capeveterans.com/event/falmouth-food-pantry-2/2025-04-15/
LOCATION:AmVets\, 366 Palmer Ave\, Falmouth\, MA\, 02540
ATTACH;FMTTYPE=image/jpeg:https://capeveterans.com/wp-content/uploads/2022/04/IMG_1748-scaled.jpeg
END:VEVENT
BEGIN:VEVENT
DTSTART;TZID=America/New_York:20250415T080000
DTEND;TZID=America/New_York:20250415T130000
DTSTAMP:20260423T112234
CREATED:20250205T155702Z
LAST-MODIFIED:20250205T155703Z
UID:10002328-1744704000-1744722000@capeveterans.com
SUMMARY:Free Dental Clinic for Veterans
DESCRIPTION:
URL:https://capeveterans.com/event/free-dental-clinic-for-veterans/
LOCATION:CIVOC HQ\, 247 STEVENS STREET SUITE E\, HYANNIS\, MA\, 02601\, United States
CATEGORIES:Special Events
ATTACH;FMTTYPE=application/pdf:https://capeveterans.com/wp-content/uploads/2025/02/2025.04.15-Wilkens-Family-Dental-Hygiene-Clinic.pdf
END:VEVENT
BEGIN:VEVENT
DTSTART;TZID=America/New_York:20250410T090000
DTEND;TZID=America/New_York:20250410T180000
DTSTAMP:20260423T112234
CREATED:20241219T142945Z
LAST-MODIFIED:20241219T142946Z
UID:10001504-1744275600-1744308000@capeveterans.com
SUMMARY:Hyannis: Food Distribution Center\, 233 Stevens Street
DESCRIPTION:Every Thursday\, 9am – 6pm\nIn order to receive food\, former military personnel must bring proof of their veteran status\, such as a DD-214 (issued upon a service member’s retirement\, separation\, or discharge from active duty)\, and they must meet criteria for assistance as defined by The Emergency Food Assistance Program (TEFAP).
URL:https://capeveterans.com/event/hyannis-food-pantry-2/2025-04-10/
LOCATION:Hyannis: Food Distribution Center\, 223 Stevens St\, Hyannis\, MA\, 02601
ATTACH;FMTTYPE=image/jpeg:https://capeveterans.com/wp-content/uploads/2022/04/IMG_1748-scaled.jpeg
END:VEVENT
BEGIN:VEVENT
DTSTART;TZID=America/New_York:20250409T110000
DTEND;TZID=America/New_York:20250409T130000
DTSTAMP:20260423T112234
CREATED:20240701T195710Z
LAST-MODIFIED:20240701T195710Z
UID:10002123-1744196400-1744203600@capeveterans.com
SUMMARY:Wareham Food Pantry
DESCRIPTION:Second and Fourth Wednesday MONTHLY\, 11am – 1pm at Wareham Council on Aging\, 48 Marion Road.
URL:https://capeveterans.com/event/wareham-food-pantry-2/2025-04-09/
LOCATION:Wareham Council on Aging\, 48 Marion Rd\, Wareham\, MA\, 02671\, United States
ATTACH;FMTTYPE=image/jpeg:https://capeveterans.com/wp-content/uploads/2022/04/IMG_1748-scaled.jpeg
END:VEVENT
BEGIN:VEVENT
DTSTART;TZID=America/New_York:20250409T093000
DTEND;TZID=America/New_York:20250409T110000
DTSTAMP:20260423T112234
CREATED:20241104T144321Z
LAST-MODIFIED:20250224T141839Z
UID:10002210-1744191000-1744196400@capeveterans.com
SUMMARY:Vets Cook With KAM Appliances
DESCRIPTION:
URL:https://capeveterans.com/event/vets-cook-with-kam-appliances-3/
LOCATION:KAM Appliances\, 6 Aggregate Way\, Hyannis
CATEGORIES:Special Events
ATTACH;FMTTYPE=image/png:https://capeveterans.com/wp-content/uploads/2024/11/Kam-Cooking-Flyer-Update.png
END:VEVENT
BEGIN:VEVENT
DTSTART;TZID=America/New_York:20250408T100000
DTEND;TZID=America/New_York:20250408T120000
DTSTAMP:20260423T112234
CREATED:20240306T181929Z
LAST-MODIFIED:20250602T181102Z
UID:10002802-1744106400-1744113600@capeveterans.com
SUMMARY:Eastham Food Pantry
DESCRIPTION:2nd and 4th Tuesday of each month\, 10am – 12pm\nIn order to receive food\, former military personnel must bring proof of their veteran status\, such as a DD-214 (issued upon a service member’s retirement\, separation\, or discharge from active duty)\, and they must meet criteria for assistance as defined by The Emergency Food Assistance Program (TEFAP).
URL:https://capeveterans.com/event/eastham-food-pantry-3/2025-04-08/
LOCATION:Elks Club\, 10 McKoy Rd\, Eastham\, MA\, 02642
ATTACH;FMTTYPE=image/jpeg:https://capeveterans.com/wp-content/uploads/2022/04/IMG_1748-scaled.jpeg
END:VEVENT
BEGIN:VEVENT
DTSTART;TZID=America/New_York:20250403T090000
DTEND;TZID=America/New_York:20250403T180000
DTSTAMP:20260423T112234
CREATED:20241219T142945Z
LAST-MODIFIED:20241219T142946Z
UID:10001503-1743670800-1743703200@capeveterans.com
SUMMARY:Hyannis: Food Distribution Center\, 233 Stevens Street
DESCRIPTION:Every Thursday\, 9am – 6pm\nIn order to receive food\, former military personnel must bring proof of their veteran status\, such as a DD-214 (issued upon a service member’s retirement\, separation\, or discharge from active duty)\, and they must meet criteria for assistance as defined by The Emergency Food Assistance Program (TEFAP).
URL:https://capeveterans.com/event/hyannis-food-pantry-2/2025-04-03/
LOCATION:Hyannis: Food Distribution Center\, 223 Stevens St\, Hyannis\, MA\, 02601
ATTACH;FMTTYPE=image/jpeg:https://capeveterans.com/wp-content/uploads/2022/04/IMG_1748-scaled.jpeg
END:VEVENT
BEGIN:VEVENT
DTSTART;TZID=America/New_York:20250401T100000
DTEND;TZID=America/New_York:20250401T120000
DTSTAMP:20260423T112234
CREATED:20220413T134920Z
LAST-MODIFIED:20250603T125434Z
UID:10001004-1743501600-1743508800@capeveterans.com
SUMMARY:Falmouth Food Pantry
DESCRIPTION:1st and 3rd Tuesday of each month\, 10am – 12pm\nIn order to receive food\, former military personnel must bring proof of their veteran status\, such as a DD-214 (issued upon a service member’s retirement\, separation\, or discharge from active duty)\, and they must meet criteria for assistance as defined by The Emergency Food Assistance Program (TEFAP).
URL:https://capeveterans.com/event/falmouth-food-pantry/2025-04-01/
LOCATION:AmVets\, 366 Palmer Ave\, Falmouth\, MA\, 02540
ATTACH;FMTTYPE=image/jpeg:https://capeveterans.com/wp-content/uploads/2022/04/IMG_1748-scaled.jpeg
END:VEVENT
BEGIN:VEVENT
DTSTART;TZID=America/New_York:20250327T090000
DTEND;TZID=America/New_York:20250327T180000
DTSTAMP:20260423T112234
CREATED:20241219T142945Z
LAST-MODIFIED:20241219T142946Z
UID:10001502-1743066000-1743098400@capeveterans.com
SUMMARY:Hyannis: Food Distribution Center\, 233 Stevens Street
DESCRIPTION:Every Thursday\, 9am – 6pm\nIn order to receive food\, former military personnel must bring proof of their veteran status\, such as a DD-214 (issued upon a service member’s retirement\, separation\, or discharge from active duty)\, and they must meet criteria for assistance as defined by The Emergency Food Assistance Program (TEFAP).
URL:https://capeveterans.com/event/hyannis-food-pantry-2/2025-03-27/
LOCATION:Hyannis: Food Distribution Center\, 223 Stevens St\, Hyannis\, MA\, 02601
ATTACH;FMTTYPE=image/jpeg:https://capeveterans.com/wp-content/uploads/2022/04/IMG_1748-scaled.jpeg
END:VEVENT
BEGIN:VEVENT
DTSTART;TZID=America/New_York:20250327T090000
DTEND;TZID=America/New_York:20250327T120000
DTSTAMP:20260423T112234
CREATED:20241219T141918Z
LAST-MODIFIED:20250227T141018Z
UID:10002223-1743066000-1743076800@capeveterans.com
SUMMARY:Veterans Legal Clinic
DESCRIPTION:
URL:https://capeveterans.com/event/veterans-legal-clinic-3/
LOCATION:CIVOC HQ\, 247 STEVENS STREET SUITE E\, HYANNIS\, MA\, 02601\, United States
CATEGORIES:Special Events
ATTACH;FMTTYPE=image/png:https://capeveterans.com/wp-content/uploads/2024/12/Legal-Clinic-3-5.png
END:VEVENT
BEGIN:VEVENT
DTSTART;TZID=America/New_York:20250326T110000
DTEND;TZID=America/New_York:20250326T130000
DTSTAMP:20260423T112234
CREATED:20240701T195130Z
LAST-MODIFIED:20240701T195532Z
UID:10002062-1742986800-1742994000@capeveterans.com
SUMMARY:Wareham Food Pantry
DESCRIPTION:Second and Fourth Wednesday MONTHLY\, 11am – 1pm at Wareham Council on Aging\, 48 Marion Road.
URL:https://capeveterans.com/event/wareham-food-pantry/2025-03-26/
LOCATION:Wareham Council on Aging\, 48 Marion Rd\, Wareham\, MA\, 02671\, United States
ATTACH;FMTTYPE=image/jpeg:https://capeveterans.com/wp-content/uploads/2022/04/IMG_1748-scaled.jpeg
END:VEVENT
BEGIN:VEVENT
DTSTART;TZID=America/New_York:20250325T110000
DTEND;TZID=America/New_York:20250325T130000
DTSTAMP:20260423T112234
CREATED:20220413T140416Z
LAST-MODIFIED:20240307T134537Z
UID:10001806-1742900400-1742907600@capeveterans.com
SUMMARY:Eastham Food Pantry
DESCRIPTION:2nd and 4th Tuesday of each month\, 11am – 1pm\nIn order to receive food\, former military personnel must bring proof of their veteran status\, such as a DD-214 (issued upon a service member’s retirement\, separation\, or discharge from active duty)\, and they must meet criteria for assistance as defined by The Emergency Food Assistance Program (TEFAP).
URL:https://capeveterans.com/event/eastham-food-pantry-2/2025-03-25/
LOCATION:Elks Club\, 10 McKoy Rd\, Eastham\, MA\, 02642
ATTACH;FMTTYPE=image/jpeg:https://capeveterans.com/wp-content/uploads/2022/04/IMG_1748-scaled.jpeg
END:VEVENT
BEGIN:VEVENT
DTSTART;TZID=America/New_York:20250324T110000
DTEND;TZID=America/New_York:20250324T130000
DTSTAMP:20260423T112234
CREATED:20250227T135134Z
LAST-MODIFIED:20250227T135813Z
UID:10002332-1742814000-1742821200@capeveterans.com
SUMMARY:Celebrating Women’s History Month at Cotuit Library
DESCRIPTION:Celebrate women’s leadership this Women’s History Month at the Cotuit Library! Join us for an engaging program supporting veterans. Hear from keynote Andrea Gayle-Bennett (EOVS) on the HERO Act\, Paula Smith (Cape Cod Community College) on their programs\, and Barbara-Anne Foley (Cape & Islands Veterans Outreach Center) on local support. Connect with influential women and honor their dedication to veterans. \n\nRSVP is required 508.237.3349.
URL:https://capeveterans.com/event/celebrating-womens-history-month-at-cotuit-library/
LOCATION:Cotuit Library\, 871 Main St\, Cotuit\, MA\, 02635\, United States
CATEGORIES:Special Events
ATTACH;FMTTYPE=image/jpeg:https://capeveterans.com/wp-content/uploads/2025/02/whm.jpg
END:VEVENT
BEGIN:VEVENT
DTSTART;TZID=America/New_York:20250320T090000
DTEND;TZID=America/New_York:20250320T180000
DTSTAMP:20260423T112234
CREATED:20241219T142945Z
LAST-MODIFIED:20241219T142946Z
UID:10001501-1742461200-1742493600@capeveterans.com
SUMMARY:Hyannis: Food Distribution Center\, 233 Stevens Street
DESCRIPTION:Every Thursday\, 9am – 6pm\nIn order to receive food\, former military personnel must bring proof of their veteran status\, such as a DD-214 (issued upon a service member’s retirement\, separation\, or discharge from active duty)\, and they must meet criteria for assistance as defined by The Emergency Food Assistance Program (TEFAP).
URL:https://capeveterans.com/event/hyannis-food-pantry-2/2025-03-20/
LOCATION:Hyannis: Food Distribution Center\, 223 Stevens St\, Hyannis\, MA\, 02601
ATTACH;FMTTYPE=image/jpeg:https://capeveterans.com/wp-content/uploads/2022/04/IMG_1748-scaled.jpeg
END:VEVENT
BEGIN:VEVENT
DTSTART;TZID=America/New_York:20250319T103000
DTEND;TZID=America/New_York:20250319T130000
DTSTAMP:20260423T112234
CREATED:20220413T140919Z
LAST-MODIFIED:20250602T181954Z
UID:10002940-1742380200-1742389200@capeveterans.com
SUMMARY:Martha’s Vineyard Food Pantry
DESCRIPTION:3rd Wednesday of each month\, 10am – 1pm\nIn order to receive food\, former military personnel must bring proof of their veteran status\, such as a DD-214 (issued upon a service member’s retirement\, separation\, or discharge from active duty)\, and they must meet criteria for assistance as defined by The Emergency Food Assistance Program (TEFAP).
URL:https://capeveterans.com/event/marthas-vineyard-food-pantry/2025-03-19/
LOCATION:Steamship Authority Parking Lot\, Vineyard Haven\, MA\, 02568
ATTACH;FMTTYPE=image/jpeg:https://capeveterans.com/wp-content/uploads/2022/04/IMG_1748-scaled.jpeg
END:VEVENT
BEGIN:VEVENT
DTSTART;TZID=America/New_York:20250318T100000
DTEND;TZID=America/New_York:20250318T130000
DTSTAMP:20260423T112234
CREATED:20220413T135103Z
LAST-MODIFIED:20220413T140109Z
UID:10001072-1742292000-1742302800@capeveterans.com
SUMMARY:Falmouth Food Pantry
DESCRIPTION:1st and 3rd Tuesday of each month\, 10am – 1pm\nIn order to receive food\, former military personnel must bring proof of their veteran status\, such as a DD-214 (issued upon a service member’s retirement\, separation\, or discharge from active duty)\, and they must meet criteria for assistance as defined by The Emergency Food Assistance Program (TEFAP).
URL:https://capeveterans.com/event/falmouth-food-pantry-2/2025-03-18/
LOCATION:AmVets\, 366 Palmer Ave\, Falmouth\, MA\, 02540
ATTACH;FMTTYPE=image/jpeg:https://capeveterans.com/wp-content/uploads/2022/04/IMG_1748-scaled.jpeg
END:VEVENT
BEGIN:VEVENT
DTSTART;TZID=America/New_York:20250315T140000
DTEND;TZID=America/New_York:20250315T160000
DTSTAMP:20260423T112234
CREATED:20250218T173429Z
LAST-MODIFIED:20250218T173618Z
UID:10002331-1742047200-1742054400@capeveterans.com
SUMMARY:Join Us in Celebrating Women's History Month - Free Movie for Veterans
DESCRIPTION:
URL:https://capeveterans.com/event/join-us-in-celebrating-womens-history-month-free-movie-for-veterans/
LOCATION:Building #6\, Great Hall @ 4C’s\, 2240 Iyannough Rd\,\, West Barnstable\, MA\, 02668\, United States
CATEGORIES:Special Events
ATTACH;FMTTYPE=application/pdf:https://capeveterans.com/wp-content/uploads/2025/02/March-15-Movie-Night-for-Veterans-4.pdf
END:VEVENT
BEGIN:VEVENT
DTSTART;TZID=America/New_York:20250313T090000
DTEND;TZID=America/New_York:20250313T180000
DTSTAMP:20260423T112234
CREATED:20241219T142945Z
LAST-MODIFIED:20241219T142946Z
UID:10001500-1741856400-1741888800@capeveterans.com
SUMMARY:Hyannis: Food Distribution Center\, 233 Stevens Street
DESCRIPTION:Every Thursday\, 9am – 6pm\nIn order to receive food\, former military personnel must bring proof of their veteran status\, such as a DD-214 (issued upon a service member’s retirement\, separation\, or discharge from active duty)\, and they must meet criteria for assistance as defined by The Emergency Food Assistance Program (TEFAP).
URL:https://capeveterans.com/event/hyannis-food-pantry-2/2025-03-13/
LOCATION:Hyannis: Food Distribution Center\, 223 Stevens St\, Hyannis\, MA\, 02601
ATTACH;FMTTYPE=image/jpeg:https://capeveterans.com/wp-content/uploads/2022/04/IMG_1748-scaled.jpeg
END:VEVENT
BEGIN:VEVENT
DTSTART;TZID=America/New_York:20250312T110000
DTEND;TZID=America/New_York:20250312T130000
DTSTAMP:20260423T112234
CREATED:20240701T195710Z
LAST-MODIFIED:20240701T195710Z
UID:10002122-1741777200-1741784400@capeveterans.com
SUMMARY:Wareham Food Pantry
DESCRIPTION:Second and Fourth Wednesday MONTHLY\, 11am – 1pm at Wareham Council on Aging\, 48 Marion Road.
URL:https://capeveterans.com/event/wareham-food-pantry-2/2025-03-12/
LOCATION:Wareham Council on Aging\, 48 Marion Rd\, Wareham\, MA\, 02671\, United States
ATTACH;FMTTYPE=image/jpeg:https://capeveterans.com/wp-content/uploads/2022/04/IMG_1748-scaled.jpeg
END:VEVENT
BEGIN:VEVENT
DTSTART;TZID=America/New_York:20250311T100000
DTEND;TZID=America/New_York:20250311T120000
DTSTAMP:20260423T112234
CREATED:20240306T181929Z
LAST-MODIFIED:20250602T181102Z
UID:10002801-1741687200-1741694400@capeveterans.com
SUMMARY:Eastham Food Pantry
DESCRIPTION:2nd and 4th Tuesday of each month\, 10am – 12pm\nIn order to receive food\, former military personnel must bring proof of their veteran status\, such as a DD-214 (issued upon a service member’s retirement\, separation\, or discharge from active duty)\, and they must meet criteria for assistance as defined by The Emergency Food Assistance Program (TEFAP).
URL:https://capeveterans.com/event/eastham-food-pantry-3/2025-03-11/
LOCATION:Elks Club\, 10 McKoy Rd\, Eastham\, MA\, 02642
ATTACH;FMTTYPE=image/jpeg:https://capeveterans.com/wp-content/uploads/2022/04/IMG_1748-scaled.jpeg
END:VEVENT
BEGIN:VEVENT
DTSTART;TZID=America/New_York:20250308T100000
DTEND;TZID=America/New_York:20250308T130000
DTSTAMP:20260423T112234
CREATED:20250212T165600Z
LAST-MODIFIED:20250212T165600Z
UID:10002330-1741428000-1741438800@capeveterans.com
SUMMARY:Celebrate Women's History Month - Event for Female Veterans
DESCRIPTION:
URL:https://capeveterans.com/event/celebrate-womens-history-month-event-for-female-veterans/
LOCATION:Margaritaville Hotel\, 1225 Iyannough Rd\, Hyannis\, MA\, 02601\, United States
CATEGORIES:Special Events
ATTACH;FMTTYPE=application/pdf:https://capeveterans.com/wp-content/uploads/2025/02/Female-Veterans-Event-Betty-Ludtke-Speaker.pdf
END:VEVENT
END:VCALENDAR