BEGIN:VCALENDAR
VERSION:2.0
PRODID:-//Cape and Islands Veterans Outreach Center - ECPv6.15.18//NONSGML v1.0//EN
CALSCALE:GREGORIAN
METHOD:PUBLISH
X-ORIGINAL-URL:https://capeveterans.com
X-WR-CALDESC:Events for Cape and Islands Veterans Outreach Center
REFRESH-INTERVAL;VALUE=DURATION:PT1H
X-Robots-Tag:noindex
X-PUBLISHED-TTL:PT1H
BEGIN:VTIMEZONE
TZID:America/New_York
BEGIN:DAYLIGHT
TZOFFSETFROM:-0500
TZOFFSETTO:-0400
TZNAME:EDT
DTSTART:20240310T070000
END:DAYLIGHT
BEGIN:STANDARD
TZOFFSETFROM:-0400
TZOFFSETTO:-0500
TZNAME:EST
DTSTART:20241103T060000
END:STANDARD
BEGIN:DAYLIGHT
TZOFFSETFROM:-0500
TZOFFSETTO:-0400
TZNAME:EDT
DTSTART:20250309T070000
END:DAYLIGHT
BEGIN:STANDARD
TZOFFSETFROM:-0400
TZOFFSETTO:-0500
TZNAME:EST
DTSTART:20251102T060000
END:STANDARD
BEGIN:DAYLIGHT
TZOFFSETFROM:-0500
TZOFFSETTO:-0400
TZNAME:EDT
DTSTART:20260308T070000
END:DAYLIGHT
BEGIN:STANDARD
TZOFFSETFROM:-0400
TZOFFSETTO:-0500
TZNAME:EST
DTSTART:20261101T060000
END:STANDARD
END:VTIMEZONE
BEGIN:VEVENT
DTSTART;TZID=America/New_York:20250506T100000
DTEND;TZID=America/New_York:20250506T120000
DTSTAMP:20260419T205839
CREATED:20220413T134920Z
LAST-MODIFIED:20250603T125434Z
UID:10001005-1746525600-1746532800@capeveterans.com
SUMMARY:Falmouth Food Pantry
DESCRIPTION:1st and 3rd Tuesday of each month\, 10am – 12pm\nIn order to receive food\, former military personnel must bring proof of their veteran status\, such as a DD-214 (issued upon a service member’s retirement\, separation\, or discharge from active duty)\, and they must meet criteria for assistance as defined by The Emergency Food Assistance Program (TEFAP).
URL:https://capeveterans.com/event/falmouth-food-pantry/2025-05-06/
LOCATION:AmVets\, 366 Palmer Ave\, Falmouth\, MA\, 02540
ATTACH;FMTTYPE=image/jpeg:https://capeveterans.com/wp-content/uploads/2022/04/IMG_1748-scaled.jpeg
END:VEVENT
BEGIN:VEVENT
DTSTART;TZID=America/New_York:20250506T160000
DTEND;TZID=America/New_York:20250506T190000
DTSTAMP:20260419T205839
CREATED:20250416T153431Z
LAST-MODIFIED:20250416T153431Z
UID:10002345-1746547200-1746558000@capeveterans.com
SUMMARY:Vintage Car Show
DESCRIPTION:
URL:https://capeveterans.com/event/vintage-car-show/
LOCATION:Sandwich High School\, 365 Quaker Meetinghouse Road\, East Sandwich\, MA\, 02537\, United States
CATEGORIES:Special Events
ATTACH;FMTTYPE=image/png:https://capeveterans.com/wp-content/uploads/2025/04/Car-Show-sandwich-flyer-opening-night.png
END:VEVENT
END:VCALENDAR